BEGIN:VCALENDAR
PRODID:NingEventWidget-v1
VERSION:2.0
METHOD:PUBLISH
BEGIN:VTIMEZONE
TZID:America/Los_Angeles
X-LIC-LOCATION:America/Los_Angeles
BEGIN:DAYLIGHT
TZOFFSETFROM:-0800
TZOFFSETTO:-0700
TZNAME:PDT
DTSTART:19700308T020000
RRULE:FREQ=YEARLY;BYMONTH=3;BYDAY=2SU
END:DAYLIGHT
BEGIN:STANDARD
TZOFFSETFROM:-0700
TZOFFSETTO:-0800
TZNAME:PST
DTSTART:19701101T020000
RRULE:FREQ=YEARLY;BYMONTH=11;BYDAY=1SU
END:STANDARD
END:VTIMEZONE
BEGIN:VEVENT
UID:1688216:Event:322914
DTSTAMP:20260422T204702Z
SUMMARY:Japan Latte Art Championship
DESCRIPTION:Date: February 27, 2009　 Venue: Event Stage(East Hall 6)
 \n\nOrganized by: Specialty Coffee Association of Japan（SCAJ）\nFor
  the first time, the Latte Art Championship will be taken place. The w
 inner will be able to obtain the right to compete in SCAE World Latte 
 Art Championship! See their high performances.\n\n\n\n----------------
 -------------------------------------------------\n\"HOTERES JAPAN\", 
 \"CATEREX JAPAN\", and \"JAPAN FOOD SERVICE EQUIPMENT SHOW\" are profe
 ssional exhibitions focusing on \"Equipment for Commercial kitchens an
 d Food Services\", \"Tableware\", \"IT System\", \"Furniture/Interiors
 /Exteriors\" and \"Food Hygiene Equipment\" for the Hotel & Lodging In
 dustry, the Restaurant Industry such as restaurants, bars and cafes, t
 he Catering Industry such as hospitals, welfare facilities and schools
 .\n\nThese exhibitions have 2,200 exhibiting companies and approximate
 ly 90,000 professionals visiting annually for serious business. Japane
 se improved equipment with high specifications and various designs, as
  well as other products from overseas are on display.\n\nRecently visi
 tors from Asian counties are increasing. This show will definitely mak
 e an excellent place for the exhibitors and visitors who seek for the 
 excellent business opportunity in Japan and Asian countries.\n\nFor mo
 re information visit https://www.baristaexchange.com/events/japan-latt
 e-art-championship
DTSTART;TZID=America/Los_Angeles:20090227T000000
DTEND;TZID=America/Los_Angeles:20090227T235900
CATEGORIES:competition
LOCATION:Tokyo Big Sight (Tokyo International Exhibition Center, Ariak
 e)
WEBSITE:http://www.jma.or.jp/hcj/eng/exhibit/index.html
URL:http://www.jma.or.jp/hcj/eng/exhibit/index.html
CONTACT:
ORGANIZER:SCAJ
ATTACH;FMTTYPE="image/jpeg":http://storage.ning.com/topology/rest/1.0/
 file/get/91905142?profile=original
ATTENDEE;ROLE=REQ-PARTICIPANT;PARTSTAT=ACCEPTED;RSVP=TRUE;CN="Masa Oni
 shi":https://www.baristaexchange.com/profile/MasahiroOnishi
END:VEVENT
END:VCALENDAR
