BEGIN:VCALENDAR
PRODID:NingEventWidget-v1
VERSION:2.0
METHOD:PUBLISH
BEGIN:VTIMEZONE
TZID:America/Los_Angeles
X-LIC-LOCATION:America/Los_Angeles
BEGIN:DAYLIGHT
TZOFFSETFROM:-0800
TZOFFSETTO:-0700
TZNAME:PDT
DTSTART:19700308T020000
RRULE:FREQ=YEARLY;BYMONTH=3;BYDAY=2SU
END:DAYLIGHT
BEGIN:STANDARD
TZOFFSETFROM:-0700
TZOFFSETTO:-0800
TZNAME:PST
DTSTART:19701101T020000
RRULE:FREQ=YEARLY;BYMONTH=11;BYDAY=1SU
END:STANDARD
END:VTIMEZONE
BEGIN:VEVENT
UID:1688216:Event:982581
DTSTAMP:20260422T005625Z
SUMMARY:January Manual Brewing Battle. ATL vs. OLY!
DESCRIPTION:This month's Manual Brewing Battle is going to be the firs
 t to go Coast-to-Coast. We're pitting the best brews Atlanta area bari
 stas can muster against the best baristas around Olympia. We will main
 tain the same rules and organization. There will be three judges per s
 ide of the country. One coffee professional, one average coffee custom
 er, and one local chef. Brews will be blind judged based on the attrib
 utes of aroma, flavor, b...ody, and balance. All baristas will use the
  same coffee, available to be picked up for practice a week before the
  event from the respective Roastery. Baristas may use any manual brewi
 ng method they wish. They will have 10 minutes to submit their brew to
  the judges via runner. The special guest chef judge in Atlanta will b
 e Chef Steven Satterfield, of the highly acclaimed restaurant \"Miller
  Union.\" Miller Union was named one of the \"Top Ten New Restaurants 
 of 2010\" by Bon Appetit Magazine and Esquire Magazine. They were name
 d the \"Best New Restaurant for 2010\" by Atlanta Magazine. Batdorf & 
 Bronson has been proud to roast coffee for Miller Union since it's ope
 ning. Special Guest Coffee Professional Judge for Atlanta will be Rob 
 Tuttle, from Everything Coffee and Tea and a certified WBC and USBC He
 ad Judge! Special Guest Coffee Customer in Atlanta will be Matthew Cam
 pisi, a local coffee fan who frequents all the local coffee shops in A
 tlanta. Special Guest Coffee Professional Judge for Olympia is none ot
 her than Sarah Dooley, from Espresso Parts NW. She's also representing
  the BGA. Judges for Olympia will be announced.There will be live musi
 c at both Roasteries. In Atlanta, Chimp Attack, featuring Aaron Shivel
 y and Bryan Martin, both roasters at our Atlanta Roastery. Olympia's b
 and will be announced soon. There will also be food and drinks. First 
 Place wins a Manual Brewing Package that includes: New Baratza Preciso
 , a Clever Dripper, An Aeropress, a Hario V60, and a Coava DISK!Second
  Place wins a new Baratza Maestro, along with a Top Secret Brewing Pac
 kage and coffee! Third Place wins an awesome coffee package and a Coav
 a DISK!All scores will be tabulated on each coast, and winners will be
  those with the highest individual score irregardless of location. Thi
 s is not a team event. Judges will be in contact via Skype Video on ea
 ch coast. We want to see as many baristas as possible compete! Especia
 lly baristas from around the SE who've been in the shadow of our Pacif
 ic NW brethren for so long.\nEvent Facebook Page\n(This event starts a
 t 7pm EST and 4pm PST!)\nSponsored by Barista Magazine, Barista Exchan
 ge, Baratza Grinders, Square Mile Coffee Roasters, Coava Coffee, Batdo
 rf & Bronson, MadCap Coffee, Verve Coffee....\n\nFor more information 
 visit https://www.baristaexchange.com/events/january-manual-brewing-ba
 ttle
DTSTART;TZID=America/Los_Angeles:20110116T190000
DTEND;TZID=America/Los_Angeles:20110116T220000
CATEGORIES:manual, brewing, battle
LOCATION:Batdorf & Bronson Coffee Roastery Atlanta and Olympia
WEBSITE:http://www.facebook.com/#!/event.php?eid=110626709009935
URL:http://www.facebook.com/#!/event.php?eid=110626709009935
CONTACT:(404)316-7022
ORGANIZER;CN="Jason Dominy":https://www.baristaexchange.com/profile/jd
 ominy
ATTACH;FMTTYPE="image/jpeg":http://storage.ning.com/topology/rest/1.0/
 file/get/91920558?profile=original
ATTENDEE;ROLE=REQ-PARTICIPANT;PARTSTAT=ACCEPTED;RSVP=TRUE;CN="Keelan L
 yons":https://www.baristaexchange.com/profile/KeelanLyons
ATTENDEE;ROLE=REQ-PARTICIPANT;PARTSTAT=ACCEPTED;RSVP=TRUE;CN="Matt Mil
 letto":https://www.baristaexchange.com/profile/mattmilletto
ATTENDEE;ROLE=REQ-PARTICIPANT;PARTSTAT=ACCEPTED;RSVP=TRUE;CN=FinerGrin
 d:https://www.baristaexchange.com/profile/FinerGrind
ATTENDEE;ROLE=REQ-PARTICIPANT;PARTSTAT=ACCEPTED;RSVP=TRUE;CN="Ryan Pal
 mer":https://www.baristaexchange.com/profile/RyanPalmer
ATTENDEE;ROLE=REQ-PARTICIPANT;PARTSTAT=ACCEPTED;RSVP=TRUE;CN="Jason Do
 miny":https://www.baristaexchange.com/profile/jdominy
END:VEVENT
END:VCALENDAR
