BEGIN:VCALENDAR
PRODID:NingEventWidget-v1
VERSION:2.0
METHOD:PUBLISH
BEGIN:VTIMEZONE
TZID:America/Los_Angeles
X-LIC-LOCATION:America/Los_Angeles
BEGIN:DAYLIGHT
TZOFFSETFROM:-0800
TZOFFSETTO:-0700
TZNAME:PDT
DTSTART:19700308T020000
RRULE:FREQ=YEARLY;BYMONTH=3;BYDAY=2SU
END:DAYLIGHT
BEGIN:STANDARD
TZOFFSETFROM:-0700
TZOFFSETTO:-0800
TZNAME:PST
DTSTART:19701101T020000
RRULE:FREQ=YEARLY;BYMONTH=11;BYDAY=1SU
END:STANDARD
END:VTIMEZONE
BEGIN:VEVENT
UID:1688216:Event:609314
DTSTAMP:20260424T085038Z
SUMMARY:Irish Coffee Competitions
DESCRIPTION:Irish Latté Art, Good Spirits & Cupping competitions. 28t
 h & 29th September 2009. RDS Simmonscourt Dublin 4. For further inform
 ation please visit www.scae.ie\n\nFor more information visit https://w
 ww.baristaexchange.com/events/irish-coffee-competitions
DTSTART;TZID=America/Los_Angeles:20090928T000000
DTEND;TZID=America/Los_Angeles:20090929T235900
CATEGORIES:coffee, competitions
LOCATION:RDS Simmonscourt, Dublin
WEBSITE:http://www.scae.ie
URL:http://www.scae.ie
CONTACT:
ORGANIZER;CN=Damian:https://www.baristaexchange.com/profile/Damiano
ATTACH;FMTTYPE="image/jpeg":http://storage.ning.com/topology/rest/1.0/
 file/get/91910452?profile=original
ATTENDEE;ROLE=REQ-PARTICIPANT;PARTSTAT=ACCEPTED;RSVP=TRUE;CN="Jackie M
 alone":https://www.baristaexchange.com/profile/JackieMalone
ATTENDEE;ROLE=REQ-PARTICIPANT;PARTSTAT=ACCEPTED;RSVP=TRUE;CN="Rob Dunn
 e":https://www.baristaexchange.com/profile/RobDunne
ATTENDEE;ROLE=REQ-PARTICIPANT;PARTSTAT=ACCEPTED;RSVP=TRUE;CN=Damian:ht
 tps://www.baristaexchange.com/profile/Damiano
END:VEVENT
END:VCALENDAR
