BEGIN:VCALENDAR
PRODID:NingEventWidget-v1
VERSION:2.0
METHOD:PUBLISH
BEGIN:VTIMEZONE
TZID:America/Los_Angeles
X-LIC-LOCATION:America/Los_Angeles
BEGIN:DAYLIGHT
TZOFFSETFROM:-0800
TZOFFSETTO:-0700
TZNAME:PDT
DTSTART:19700308T020000
RRULE:FREQ=YEARLY;BYMONTH=3;BYDAY=2SU
END:DAYLIGHT
BEGIN:STANDARD
TZOFFSETFROM:-0700
TZOFFSETTO:-0800
TZNAME:PST
DTSTART:19701101T020000
RRULE:FREQ=YEARLY;BYMONTH=11;BYDAY=1SU
END:STANDARD
END:VTIMEZONE
BEGIN:VEVENT
UID:1688216:Event:328151
DTSTAMP:20260421T214843Z
SUMMARY:Indonesian Barista Competition 2009
DESCRIPTION:The Indonesian Barista Competition 2009, will be held on 1
 5-18 April 2009 at the Food Hotel Indonesia in Jakarta International E
 xpo Kemayoran. It is open for all baristas in Indonesia.\nDownload you
 r registration form from our website www.barista-indonesia.org and bec
 ome the best Indonesian's barista. Deadline for registration is 10 Mar
 ch 2009.\n\nFor more information visit https://www.baristaexchange.com
 /events/indonesian-barista-competition
DTSTART;TZID=America/Los_Angeles:20090415T130000
DTEND;TZID=America/Los_Angeles:20090418T170000
CATEGORIES:barista, competition
LOCATION:Kemayoran Expo Center, Jakarta
WEBSITE:http://www.barista-indonesia.org
URL:http://www.barista-indonesia.org
CONTACT:6221 5713548
ORGANIZER:Specialty Coffee Association of Indonesia
ATTACH;FMTTYPE="image/jpeg":http://storage.ning.com/topology/rest/1.0/
 file/get/91905258?profile=original
ATTENDEE;ROLE=REQ-PARTICIPANT;PARTSTAT=ACCEPTED;RSVP=TRUE;CN="Iradati 
 Soeparmono":https://www.baristaexchange.com/profile/IradatiSoeparmono
ATTENDEE;ROLE=REQ-PARTICIPANT;PARTSTAT=TENTATIVE;RSVP=TRUE;CN="Alun Ev
 ans":https://www.baristaexchange.com/profile/AlunEvans
END:VEVENT
END:VCALENDAR
