BEGIN:VCALENDAR
PRODID:NingEventWidget-v1
VERSION:2.0
METHOD:PUBLISH
BEGIN:VTIMEZONE
TZID:America/Los_Angeles
X-LIC-LOCATION:America/Los_Angeles
BEGIN:DAYLIGHT
TZOFFSETFROM:-0800
TZOFFSETTO:-0700
TZNAME:PDT
DTSTART:19700308T020000
RRULE:FREQ=YEARLY;BYMONTH=3;BYDAY=2SU
END:DAYLIGHT
BEGIN:STANDARD
TZOFFSETFROM:-0700
TZOFFSETTO:-0800
TZNAME:PST
DTSTART:19701101T020000
RRULE:FREQ=YEARLY;BYMONTH=11;BYDAY=1SU
END:STANDARD
END:VTIMEZONE
BEGIN:VEVENT
UID:1688216:Event:555317
DTSTAMP:20260420T013619Z
SUMMARY:IECAFE - SPEND A DAY WITH A WBC CHAMPION
DESCRIPTION:On August the 4th we will have the honor to welcome Troels
  Overdal Poulsen at IECAFE - he' s a great barista and a big champion.
  He was World Barista Champion in 2005 in Seattle, 2003 he was the 4th
  classified in Boston. He has been the Champ of Denmark in 2003 and 20
 05 - and in 2002 he was the 6th classified. He will be together with u
 s and he agreed also to give a course about \"How to become a World Ba
 rista Champ\". The content will be about his experience, what you have
  to take into consideration to compete and above all, details how to b
 e a good Barista. Of course he will at the disposal of the audience fo
 r any questions. The course will last for about 4 hours starting at 09
 .30 and finishing up before lunch. We invite you to ask for informatio
 n and to spend a great day with a big Champion\n\nFor more information
  visit https://www.baristaexchange.com/events/iecafe-spend-a-day-with-
 a-wbc
DTSTART;TZID=America/Los_Angeles:20090804T093000
DTEND;TZID=America/Los_Angeles:20090804T133000
CATEGORIES:coffee, courses, in, barcelona
LOCATION:IECAFE - Instituto Español de Cafe - Barcelona / Spain
WEBSITE:http://www.iecafe.com
URL:http://www.iecafe.com
CONTACT:+34  93 636 39 38
ORGANIZER:IECAFE - bs@iecafe.es
ATTACH;FMTTYPE="image/jpeg":http://storage.ning.com/topology/rest/1.0/
 file/get/91908664?profile=original
ATTENDEE;ROLE=REQ-PARTICIPANT;PARTSTAT=ACCEPTED;RSVP=TRUE;CN=Birgit:ht
 tps://www.baristaexchange.com/profile/bs
END:VEVENT
END:VCALENDAR
