BEGIN:VCALENDAR
PRODID:NingEventWidget-v1
VERSION:2.0
METHOD:PUBLISH
BEGIN:VTIMEZONE
TZID:America/Los_Angeles
X-LIC-LOCATION:America/Los_Angeles
BEGIN:DAYLIGHT
TZOFFSETFROM:-0800
TZOFFSETTO:-0700
TZNAME:PDT
DTSTART:19700308T020000
RRULE:FREQ=YEARLY;BYMONTH=3;BYDAY=2SU
END:DAYLIGHT
BEGIN:STANDARD
TZOFFSETFROM:-0700
TZOFFSETTO:-0800
TZNAME:PST
DTSTART:19701101T020000
RRULE:FREQ=YEARLY;BYMONTH=11;BYDAY=1SU
END:STANDARD
END:VTIMEZONE
BEGIN:VEVENT
UID:1688216:Event:577320
DTSTAMP:20260422T131018Z
SUMMARY:ICB reopening Jam and Wiseman Tea welcoming.
DESCRIPTION:Andy Atkinson and Dave Ryndak have taken over, remodeled, 
 re-invented, and re-opened ICB Coffee (aka The Italian Coffee Bar). Th
 is is the first jam and the reopening party.\n\nWe are also welcoming 
 our new tea company Wiseman Tea. Wiseman Tea is a brand new tea compan
 y from Chicago and this will be their first event ever.\n\nIn addition
  to hosting the general mayhem that we usually bring to other jams, Wi
 seman Tea will be brewing a bunch of teas from their line.\n\nWe will 
 also be doing Single Origin Espresso tastings.\n\nPlus the usual suspe
 cts...\n- Throwdown for cash money\n- Food\n- Booze\n\nEasy walk from 
 the Chicago Ave. Red Line\n\nFor more information visit https://www.ba
 ristaexchange.com/events/icb-reopening-jam-and-wiseman
DTSTART;TZID=America/Los_Angeles:20090821T190000
DTEND;TZID=America/Los_Angeles:20090822T000000
CATEGORIES:"party/jam"
LOCATION:ICB @ 680 N Lake Shore
WEBSITE:
URL:
CONTACT:(847) 924-4602
ORGANIZER:ICB
ATTACH;FMTTYPE="image/jpeg":
ATTENDEE;ROLE=REQ-PARTICIPANT;PARTSTAT=ACCEPTED;RSVP=TRUE;CN="Matthew 
 Gasaway":https://www.baristaexchange.com/profile/MatthewGasaway
ATTENDEE;ROLE=REQ-PARTICIPANT;PARTSTAT=ACCEPTED;RSVP=TRUE;CN="Andy Atk
 inson":https://www.baristaexchange.com/profile/AndyAtkinson
ATTENDEE;ROLE=REQ-PARTICIPANT;PARTSTAT=TENTATIVE;RSVP=TRUE;CN=Dex:http
 s://www.baristaexchange.com/profile/Dee
END:VEVENT
END:VCALENDAR
