BEGIN:VCALENDAR
PRODID:NingEventWidget-v1
VERSION:2.0
METHOD:PUBLISH
BEGIN:VTIMEZONE
TZID:America/Los_Angeles
X-LIC-LOCATION:America/Los_Angeles
BEGIN:DAYLIGHT
TZOFFSETFROM:-0800
TZOFFSETTO:-0700
TZNAME:PDT
DTSTART:19700308T020000
RRULE:FREQ=YEARLY;BYMONTH=3;BYDAY=2SU
END:DAYLIGHT
BEGIN:STANDARD
TZOFFSETFROM:-0700
TZOFFSETTO:-0800
TZNAME:PST
DTSTART:19701101T020000
RRULE:FREQ=YEARLY;BYMONTH=11;BYDAY=1SU
END:STANDARD
END:VTIMEZONE
BEGIN:VEVENT
UID:1688216:Event:884161
DTSTAMP:20260425T100428Z
SUMMARY:I-70  Throwdown
DESCRIPTION:We will kick off our weekend of coffee with a Kansas City 
 vs. St. Louis latte art competition on Friday, July 23rd. Each city wi
 ll host a competition, and the top five baristas from each city will c
 ompete head to head via the Facebook event page.\n\nThe St. Louis port
 ion of the competition will start at 7:30pm at the Kaldi's Roasting an
 d Barista Education Center. The Kansas City portion will also start at
  7:30pm at The Roasterie Plant.\n\nDrinks and snacks will be available
  at both locations for a $5 suggested donation. Spectators and fans ar
 e encouraged to come. If you want to compete, entry is $5. The winner 
 from each city will take a cash prize. The city with the highest point
 s total after their cities' five pours wins the city title.\n\nFor mor
 e information visit https://www.baristaexchange.com/events/i70-throwdo
 wn
DTSTART;TZID=America/Los_Angeles:20100723T193000
DTEND;TZID=America/Los_Angeles:20100723T210000
CATEGORIES:throwdown, eastside, to, the, westside
LOCATION:St Louis  and Kansas City
WEBSITE:http://Kaldiscoffee.com
URL:http://Kaldiscoffee.com
CONTACT:314.727.9991
ORGANIZER:Kaldis Coffee Roasters/The Roasterie
ATTACH;FMTTYPE="image/jpeg":http://storage.ning.com/topology/rest/1.0/
 file/get/91918629?profile=original
ATTENDEE;ROLE=REQ-PARTICIPANT;PARTSTAT=ACCEPTED;RSVP=TRUE;CN="Tyler Ro
 venstine":https://www.baristaexchange.com/profile/TylerRovenstine
ATTENDEE;ROLE=REQ-PARTICIPANT;PARTSTAT=ACCEPTED;RSVP=TRUE;CN="Josh Fer
 guson":https://www.baristaexchange.com/profile/JoshFerguson
ATTENDEE;ROLE=REQ-PARTICIPANT;PARTSTAT=ACCEPTED;RSVP=TRUE;CN="Chris/Da
 le":https://www.baristaexchange.com/profile/ChrisDale
END:VEVENT
END:VCALENDAR
