BEGIN:VCALENDAR
PRODID:NingEventWidget-v1
VERSION:2.0
METHOD:PUBLISH
BEGIN:VTIMEZONE
TZID:America/Los_Angeles
X-LIC-LOCATION:America/Los_Angeles
BEGIN:DAYLIGHT
TZOFFSETFROM:-0800
TZOFFSETTO:-0700
TZNAME:PDT
DTSTART:19700308T020000
RRULE:FREQ=YEARLY;BYMONTH=3;BYDAY=2SU
END:DAYLIGHT
BEGIN:STANDARD
TZOFFSETFROM:-0700
TZOFFSETTO:-0800
TZNAME:PST
DTSTART:19701101T020000
RRULE:FREQ=YEARLY;BYMONTH=11;BYDAY=1SU
END:STANDARD
END:VTIMEZONE
BEGIN:VEVENT
UID:1688216:Event:609998
DTSTAMP:20260421T145111Z
SUMMARY:Htown Charity Throwdown benefitting Coffee Kids
DESCRIPTION:Houston's First Charity Latte Art Throwdown for Coffe Kids
 !\nAll $$$$ proceeds go towards Coffee Kids. All baristi competing wil
 l be given consolation prizes, as well as 3 Grand Prizes for top 3. Co
 stume contest, Door prizes, and silent auction as well. We are encoura
 ging all baristi from areas surrounding Texas to come out and have a g
 ood time while benefiting a great cause!\n\nFor more information visit
  https://www.baristaexchange.com/events/htown-charity-throwdown
DTSTART;TZID=America/Los_Angeles:20091030T173000
DTEND;TZID=America/Los_Angeles:20091030T234500
CATEGORIES:charity, throwdown
LOCATION:Coffee Groundz
WEBSITE:http://coffeestreethouston.blogspot.com/
URL:http://coffeestreethouston.blogspot.com/
CONTACT:832 382 3466
ORGANIZER:Buehrer  (@greenwaybarista)
ATTACH;FMTTYPE="image/jpeg":http://storage.ning.com/topology/rest/1.0/
 file/get/91910504?profile=original
ATTENDEE;ROLE=REQ-PARTICIPANT;PARTSTAT=ACCEPTED;RSVP=TRUE;CN=James:htt
 ps://www.baristaexchange.com/profile/James70
ATTENDEE;ROLE=REQ-PARTICIPANT;PARTSTAT=ACCEPTED;RSVP=TRUE;CN="Greenway
  Barista":https://www.baristaexchange.com/profile/BuehrerakaDonutDave
END:VEVENT
END:VCALENDAR
