BEGIN:VCALENDAR
PRODID:NingEventWidget-v1
VERSION:2.0
METHOD:PUBLISH
BEGIN:VTIMEZONE
TZID:America/Los_Angeles
X-LIC-LOCATION:America/Los_Angeles
BEGIN:DAYLIGHT
TZOFFSETFROM:-0800
TZOFFSETTO:-0700
TZNAME:PDT
DTSTART:19700308T020000
RRULE:FREQ=YEARLY;BYMONTH=3;BYDAY=2SU
END:DAYLIGHT
BEGIN:STANDARD
TZOFFSETFROM:-0700
TZOFFSETTO:-0800
TZNAME:PST
DTSTART:19701101T020000
RRULE:FREQ=YEARLY;BYMONTH=11;BYDAY=1SU
END:STANDARD
END:VTIMEZONE
BEGIN:VEVENT
UID:1688216:Event:1672739
DTSTAMP:20260421T015339Z
SUMMARY:How Coffee affect on your mind, Wowessays review
DESCRIPTION:Several research studies have investigated how coffee affe
 cts the brain and its functions. The potential effects are mainly rela
 ted to caffeine, one of the main components of coffee. The findings of
  the study on both caffeine and coffee are given below, with more deta
 iled information available at the Research Center for Coffee and Healt
 h website.\nCoffee and mental performance The caffeine in coffee acts 
 as a mild stimulant for the central nervous system. Studies have shown
  that caffeine can help improve mental performance, especially on aler
 tness, focus, and concentration, depending on intake levels, custom co
 llege essays for this topic.\nThe European Food Safety Authority (EFSA
 ) concluded that a cause-and-effect relationship between improved vigi
 lance and attention and 75mg caffeine (the amount in a regular cup of 
 coffee) was established. For example, in conditions of low alertness o
 r lack of sleep, caffeine may improve wakefulness; Nighttime driving 2
 ,3, working at night 4, suffering from cold and during lunch 6 after d
 ip. In a sample of people younger than 40, a study found that caffeine
  or coffee jet lag or shift work can be effective in improving perform
 ance in people suffering from sleep disorder 7. Some studies have show
 n that caffeine can enhance memory performance, especially when tediou
 s, repetitive tasks are involved. However, greater intake may impair t
 he performance, possibly due to over-stimulation.\nCoffee and sleep Th
 e stimulant effects of caffeine can affect sleep patterns, and evidenc
 e suggests that there is an association between daily intake of caffei
 ne, quality of sleep, and daytime sleepiness. Sensitivity however vari
 es between individuals and consuming caffeine during the day can impro
 ve sleep patterns. Late intake can help improve sleep patterns.\nThe e
 ffects of caffeine are less pronounced in regular caffeinated coffee d
 rinkers than in topical / non-coffee drinkers. In addition, age 10,11 
 and genetics 12,13,14 may also play a role. Research has shown that ca
 ffeine-rich coffee intake throughout the day can help improve sleep qu
 ality15. Reducing caffeine intake late in the day can improve sleep pa
 tterns.\nCaffeine and Dependence Scientific evidence suggests that caf
 feine does not induce dependence, as also confirmed by WHO. Sudden dis
 continuation of caffeine consumption may cause withdrawal symptoms in 
 some regular caffeine users, but are generally not severe and of short
  duration.\nFor many people, drinking coffee regularly can become a ha
 bit, but the habit is not the same as addiction. The World Health Orga
 nization states that there is no evidence to suggest that caffeine use
  has comparable physical and social consequences of addiction 16. Brai
 n mapping techniques suggest that caffeine dependence is not associate
 d with 17's brain circuits. According to previous research on the sudd
 en discontinuation of caffeine, the American Psychiatric Association r
 ecently defined caffeine withdrawal as a syndrome that results in a su
 dden decrease or decrease in caffeine after prolonged daily use 18. Sy
 mptoms of caffeine withdrawal (headache, low alertness, and drowsiness
 ) can be completely avoided if caffeine intake is progressively reduce
 d to 19.\nCoffee and Neurodegenerative Disorders Recent studies sugges
 t that habitual coffee consumption may help maintain cognitive functio
 n in older adults, especially women. Research has also investigated th
 e effects of coffee on neurodegenerative disorders such as Alzheimer's
  and Parkinson's disease.\n\nFor more information visit https://www.ba
 ristaexchange.com/events/how-coffee-affect-on-your-mind-wowessays-revi
 ew
DTSTART;TZID=America/Los_Angeles:20200731T000000
DTEND;TZID=America/Los_Angeles:20200731T235900
CATEGORIES:educating
LOCATION:NY
WEBSITE:
URL:
CONTACT:
ORGANIZER:Jay
ATTACH;FMTTYPE="image/jpeg":https://storage.ning.com/topology/rest/1.0
 /file/get/7165094654?profile=original
ATTENDEE;ROLE=REQ-PARTICIPANT;PARTSTAT=ACCEPTED;RSVP=TRUE;CN=James:htt
 ps://www.baristaexchange.com/profile/James63
END:VEVENT
END:VCALENDAR
