BEGIN:VCALENDAR
PRODID:NingEventWidget-v1
VERSION:2.0
METHOD:PUBLISH
BEGIN:VTIMEZONE
TZID:America/Los_Angeles
X-LIC-LOCATION:America/Los_Angeles
BEGIN:DAYLIGHT
TZOFFSETFROM:-0800
TZOFFSETTO:-0700
TZNAME:PDT
DTSTART:19700308T020000
RRULE:FREQ=YEARLY;BYMONTH=3;BYDAY=2SU
END:DAYLIGHT
BEGIN:STANDARD
TZOFFSETFROM:-0700
TZOFFSETTO:-0800
TZNAME:PST
DTSTART:19701101T020000
RRULE:FREQ=YEARLY;BYMONTH=11;BYDAY=1SU
END:STANDARD
END:VTIMEZONE
BEGIN:VEVENT
UID:1688216:Event:654577
DTSTAMP:20260421T163857Z
SUMMARY:HOST trade show in Milan, Italy
DESCRIPTION:There is one of the biggest trade show worldwide for Coffe
 e and HORECA in general.\n\nOur company Solis is having a booth there 
 and inviting everybody to visit: 23 to 27 October 2009 at the booth no
 . U12 V11 in the hall 9.\n\nLooking forward to meet you there.\nall th
 e best\nEkaterina\n\nFor more information visit https://www.baristaexc
 hange.com/events/host-trade-show-in-milan-italy
DTSTART;TZID=America/Los_Angeles:20091023T220000
DTEND;TZID=America/Los_Angeles:20091027T180000
CATEGORIES:trade, show
LOCATION:Fiera Milano, Italy
WEBSITE:http://www.host.fieramilanoexpocts.it/?id=Mi16LXotZW5n
URL:http://www.host.fieramilanoexpocts.it/?id=Mi16LXotZW5n
CONTACT:+41 79 639 97 80
ORGANIZER;CN=Ekaterina:https://www.baristaexchange.com/profile/Ekateri
 na
ATTACH;FMTTYPE="image/jpeg":
ATTENDEE;ROLE=REQ-PARTICIPANT;PARTSTAT=ACCEPTED;RSVP=TRUE;CN=Ekaterina
 :https://www.baristaexchange.com/profile/Ekaterina
END:VEVENT
END:VCALENDAR
