BEGIN:VCALENDAR
PRODID:NingEventWidget-v1
VERSION:2.0
METHOD:PUBLISH
BEGIN:VTIMEZONE
TZID:America/Los_Angeles
X-LIC-LOCATION:America/Los_Angeles
BEGIN:DAYLIGHT
TZOFFSETFROM:-0800
TZOFFSETTO:-0700
TZNAME:PDT
DTSTART:19700308T020000
RRULE:FREQ=YEARLY;BYMONTH=3;BYDAY=2SU
END:DAYLIGHT
BEGIN:STANDARD
TZOFFSETFROM:-0700
TZOFFSETTO:-0800
TZNAME:PST
DTSTART:19701101T020000
RRULE:FREQ=YEARLY;BYMONTH=11;BYDAY=1SU
END:STANDARD
END:VTIMEZONE
BEGIN:VEVENT
UID:1688216:Event:616920
DTSTAMP:20260423T132545Z
SUMMARY:Home Brewing and Live Classical Guitar
DESCRIPTION:Mike Ebert, from Alterra Coffee, will be demonstrating...\
 n\"How to Brew Great Coffee at Home\". Between 5-7pm.\nAs well as, sam
 pling various Origins.\nMichael Herndon, classical guitarist...\nwill 
 join us for beautiful music. Starting at 7pm.\n\nFor more information 
 visit https://www.baristaexchange.com/events/home-brewing-and-live
DTSTART;TZID=America/Los_Angeles:20090919T170000
DTEND;TZID=America/Los_Angeles:20090919T203000
CATEGORIES:teaching, and, live, music
LOCATION:Regular Joe Coffeehouse
WEBSITE:http://www.regularjoecoffeehouse.com
URL:http://www.regularjoecoffeehouse.com
CONTACT:847 202-9046
ORGANIZER;CN="Terri Heinrich":https://www.baristaexchange.com/profile/
 TerriHeinrich
ATTACH;FMTTYPE="image/jpeg":http://storage.ning.com/topology/rest/1.0/
 file/get/91910386?profile=original
ATTENDEE;ROLE=REQ-PARTICIPANT;PARTSTAT=ACCEPTED;RSVP=TRUE;CN="Mike Ebe
 rt":https://www.baristaexchange.com/profile/MikeEbert
ATTENDEE;ROLE=REQ-PARTICIPANT;PARTSTAT=ACCEPTED;RSVP=TRUE;CN="Terri He
 inrich":https://www.baristaexchange.com/profile/TerriHeinrich
END:VEVENT
END:VCALENDAR
