BEGIN:VCALENDAR
PRODID:NingEventWidget-v1
VERSION:2.0
METHOD:PUBLISH
BEGIN:VTIMEZONE
TZID:America/Los_Angeles
X-LIC-LOCATION:America/Los_Angeles
BEGIN:DAYLIGHT
TZOFFSETFROM:-0800
TZOFFSETTO:-0700
TZNAME:PDT
DTSTART:19700308T020000
RRULE:FREQ=YEARLY;BYMONTH=3;BYDAY=2SU
END:DAYLIGHT
BEGIN:STANDARD
TZOFFSETFROM:-0700
TZOFFSETTO:-0800
TZNAME:PST
DTSTART:19701101T020000
RRULE:FREQ=YEARLY;BYMONTH=11;BYDAY=1SU
END:STANDARD
END:VTIMEZONE
BEGIN:VEVENT
UID:1688216:Event:846134
DTSTAMP:20260424T103609Z
SUMMARY:Green Coffee Auction to benefit Grounds for Health
DESCRIPTION:This Annual Green Coffee Auction benefits the work of Grou
 nds for Health which is prevention, screening and treatment of cervica
 l cancer in coffee growing countries. It's the #1 cause of cancer deat
 h for women in those countries and totally preventable.Women have beco
 me even more critical at origin as farmers, pickers and support to far
 mers, their families and communities. These needless deaths can be avo
 ided. The Specialty Coffee Industry provides 90% of our support. We ho
 pe you will join the auction by donating, bidding or buying. Visit www
 .auction.groundsforhealth.org to see who has already donated.\n\nFor m
 ore information visit https://www.baristaexchange.com/events/green-cof
 fee-auction-to
DTSTART;TZID=America/Los_Angeles:20100602T000000
DTEND;TZID=America/Los_Angeles:20100604T235900
CATEGORIES:fundraiser
LOCATION:On-Line
WEBSITE:http://www.auction.groundsforhealth.org
URL:http://www.auction.groundsforhealth.org
CONTACT:802-241-4146
ORGANIZER:Grounds for Health
ATTACH;FMTTYPE="image/jpeg":
ATTENDEE;ROLE=REQ-PARTICIPANT;PARTSTAT=ACCEPTED;RSVP=TRUE;CN="Jane S. 
 Dale":https://www.baristaexchange.com/profile/JaneSDale
END:VEVENT
END:VCALENDAR
