BEGIN:VCALENDAR
PRODID:NingEventWidget-v1
VERSION:2.0
METHOD:PUBLISH
BEGIN:VTIMEZONE
TZID:America/Los_Angeles
X-LIC-LOCATION:America/Los_Angeles
BEGIN:DAYLIGHT
TZOFFSETFROM:-0800
TZOFFSETTO:-0700
TZNAME:PDT
DTSTART:19700308T020000
RRULE:FREQ=YEARLY;BYMONTH=3;BYDAY=2SU
END:DAYLIGHT
BEGIN:STANDARD
TZOFFSETFROM:-0700
TZOFFSETTO:-0800
TZNAME:PST
DTSTART:19701101T020000
RRULE:FREQ=YEARLY;BYMONTH=11;BYDAY=1SU
END:STANDARD
END:VTIMEZONE
BEGIN:VEVENT
UID:1688216:Event:330471
DTSTAMP:20260423T033417Z
SUMMARY:Great Lakes Regional Barista Competition
DESCRIPTION:Baristas from the surrounding states of Wisconsin, Illinoi
 s, Indiana, Michigan, and Ohio, will converge to take part in a compet
 ition designed to encourage and recognize the art of espresso preparat
 ion and service. Competitors will serve up to 12 drinks in a 15-minute
  period in front of a panel of seven judges. Four espressos, four capp
 uccinos and four beverages of their own creations will be critiqued. J
 udges will evaluate each Barista on their technical skill; the flavor 
 and quality of their espresso; the taste, creativity and appearance of
  their drinks, and on their presentation/customer service skills. The 
 winner will automatically advance to the Semi-Finals Round at the Unit
 ed States Barista Championship held in Portland, Ore., in March 2009.\
 n\nThe Competition is a free event will be held at Navy Pier in Chicag
 o, Illinois on Friday, February 20 through Sunday, February 22 and is 
 open to the public. For more information on the event and registration
  for those wishing to compete, please visit www.coffeemasters.com and 
 click on the GLBC logo.\n\nCoffee Masters, Inc., a leading Midwest spe
 cialty coffee roaster and wholesaler in Spring Grove, IL, will be host
 ing the Championship in during the Coffee Fest Chicago Trade Show. Thi
 s event is presented by the Specialty Coffee Association of America, t
 he industry's trade group, which coordinates 10 such regional events t
 hroughout the country, as well as a national competition every year.\n
 \nFor more information visit https://www.baristaexchange.com/events/gr
 eat-lakes-regional-barista
DTSTART;TZID=America/Los_Angeles:20090220T000000
DTEND;TZID=America/Los_Angeles:20090222T235900
CATEGORIES:barista, competition
LOCATION:Navy Pier
WEBSITE:
URL:
CONTACT:800.334.6485
ORGANIZER;CN="Coffee Masters, Inc.":https://www.baristaexchange.com/pr
 ofile/CoffeeMastersInc
ATTACH;FMTTYPE="image/jpeg":http://storage.ning.com/topology/rest/1.0/
 file/get/91905294?profile=original
ATTENDEE;ROLE=REQ-PARTICIPANT;PARTSTAT=ACCEPTED;RSVP=TRUE;CN="william 
 kevin emmons":https://www.baristaexchange.com/profile/williamkevinemmo
 ns
ATTENDEE;ROLE=REQ-PARTICIPANT;PARTSTAT=ACCEPTED;RSVP=TRUE;CN="Jason Do
 miny":https://www.baristaexchange.com/profile/jdominy
ATTENDEE;ROLE=REQ-PARTICIPANT;PARTSTAT=ACCEPTED;RSVP=TRUE;CN="Matt Mil
 letto":https://www.baristaexchange.com/profile/mattmilletto
ATTENDEE;ROLE=REQ-PARTICIPANT;PARTSTAT=ACCEPTED;RSVP=TRUE;CN=Miguel:ht
 tps://www.baristaexchange.com/profile/Miguel97
ATTENDEE;ROLE=REQ-PARTICIPANT;PARTSTAT=ACCEPTED;RSVP=TRUE;CN="Steve Ke
 ssler":https://www.baristaexchange.com/profile/SteveKessler
ATTENDEE;ROLE=REQ-PARTICIPANT;PARTSTAT=ACCEPTED;RSVP=TRUE;CN="Coffee M
 asters, Inc.":https://www.baristaexchange.com/profile/CoffeeMastersInc
END:VEVENT
END:VCALENDAR
