BEGIN:VCALENDAR
PRODID:NingEventWidget-v1
VERSION:2.0
METHOD:PUBLISH
BEGIN:VTIMEZONE
TZID:America/Los_Angeles
X-LIC-LOCATION:America/Los_Angeles
BEGIN:DAYLIGHT
TZOFFSETFROM:-0800
TZOFFSETTO:-0700
TZNAME:PDT
DTSTART:19700308T020000
RRULE:FREQ=YEARLY;BYMONTH=3;BYDAY=2SU
END:DAYLIGHT
BEGIN:STANDARD
TZOFFSETFROM:-0700
TZOFFSETTO:-0800
TZNAME:PST
DTSTART:19701101T020000
RRULE:FREQ=YEARLY;BYMONTH=11;BYDAY=1SU
END:STANDARD
END:VTIMEZONE
BEGIN:VEVENT
UID:1688216:Event:389281
DTSTAMP:20260422T061203Z
SUMMARY:goonlinetv03
DESCRIPTION:First off I want to say hello to everyone and I'm excited 
 to be here.\n\nDo You want to make a good amount of money online and Y
 ou've tried a few things and have gotten nowhere so far?\n\nMoney IS e
 verything. Atleast to me. How do you make it?\nI am a supervior of mar
 keting so I get questioned a lot about \"What do you want to do with y
 our life?\" or \"what do you want to be?\" My response is whatever mak
 es the most money. I have come across some people who think that I can
  be serious. They say that money wont make you happy. I don't believe 
 that. Everything that i don't like about my current situation, could b
 e solved or at least greatly improved with money.\n\nHere is one examp
 le of what I'm talking about:\n\n\"You can't buy friends.\"\n-That is 
 true, but people would want to be with me more if we could go out and 
 do things that are fun, instead of just sitting around at someones hou
 se.\n\nSomething else that I don't agree with, being that I'm a colleg
 e student. I don't like the question, \"what are you going to major in
 ?\" My reason is, all of the majors that I am smart enough to persue d
 on't make as much money as I would like to one day have. My feeling is
  that college is setting you up to enter a career and earn a set range
  for a salary for the rest of your time in that career. I do not like 
 that idea. Maybe I'm wrong here, but according to what I've said, woul
 dn't the jobs with the best chance to gain substantial amounts of mone
 y(although risky) be artists, musicians, actors, models, authors, and 
 things like that? Maybe something that has to do with business if you 
 have a good enough idea?\n\nWhat do you think about my point of view?\
 n\nDo you have any pointers for making the most amount of money possib
 le\n\nDo You want to make a good amount of money online and You've tri
 ed a few things and have gotten nowhere so far?\n\nDo you want to know
  if this is how it was for some of you guys and what you did thay maid
  you go from nothing to everything or atleast from nothing to some suc
 cess.\nSomeone is making a lot of money on the adult industry. Why not
  you?\nRead more on this here:\nhttp://www.hotoffers19.com]make big mo
 ney\n\nFor more information visit https://www.baristaexchange.com/even
 ts/goonlinetv03-1
DTSTART;TZID=America/Los_Angeles:20090325T180000
DTEND;TZID=America/Los_Angeles:20090325T190000
CATEGORIES:make, big, money
LOCATION:USA
WEBSITE:http://www.hotoffers19.com
URL:http://www.hotoffers19.com
CONTACT:0972246567
ORGANIZER;CN="Tony Lee":https://www.baristaexchange.com/profile/TonyLe
 e
ATTACH;FMTTYPE="image/jpeg":
ATTENDEE;ROLE=REQ-PARTICIPANT;PARTSTAT=ACCEPTED;RSVP=TRUE;CN="Tony Lee
 ":https://www.baristaexchange.com/profile/TonyLee
END:VEVENT
END:VCALENDAR
