BEGIN:VCALENDAR
PRODID:NingEventWidget-v1
VERSION:2.0
METHOD:PUBLISH
BEGIN:VTIMEZONE
TZID:America/Los_Angeles
X-LIC-LOCATION:America/Los_Angeles
BEGIN:DAYLIGHT
TZOFFSETFROM:-0800
TZOFFSETTO:-0700
TZNAME:PDT
DTSTART:19700308T020000
RRULE:FREQ=YEARLY;BYMONTH=3;BYDAY=2SU
END:DAYLIGHT
BEGIN:STANDARD
TZOFFSETFROM:-0700
TZOFFSETTO:-0800
TZNAME:PST
DTSTART:19701101T020000
RRULE:FREQ=YEARLY;BYMONTH=11;BYDAY=1SU
END:STANDARD
END:VTIMEZONE
BEGIN:VEVENT
UID:1688216:Event:926082
DTSTAMP:20260423T100416Z
SUMMARY:Give It Away
DESCRIPTION:Raffle + Beer + Food + Good Coffee + Good Cause\n\nAll pro
 ceeds going to Coffee Kids - a totally awesome organization working wi
 th coffee farming families to improve their lives and livelihoods.\n\n
 More information on Coffee Kids can be found at http://www.coffeekids.
 org/\n\n\nEveryone is welcome!\n\n\nRaffle prizes include a BGA member
 ship and an iPod shuffle!\n\n\nSponsored by: Slow Food Austin, Cuvée 
 Coffee, Once Over Coffee Bar, Waterfall Gourmet Beverages, Waialua Sod
 a, Barista Guild of America, Schlotzsky's, Visions Espresso\n\nFor mor
 e information visit https://www.baristaexchange.com/events/give-it-awa
 y
DTSTART;TZID=America/Los_Angeles:20100926T180000
DTEND;TZID=America/Los_Angeles:20100926T210000
CATEGORIES:"latte art throwdown", fundraiser, charity
LOCATION:Once Over Coffee Bar
WEBSITE:http://www.facebook.com/event.php?eid=150050341701744
URL:http://www.facebook.com/event.php?eid=150050341701744
CONTACT:
ORGANIZER:Austin's Awesome Coffee Community
ATTACH;FMTTYPE="image/jpeg":
ATTENDEE;ROLE=REQ-PARTICIPANT;PARTSTAT=ACCEPTED;RSVP=TRUE;CN="Lorenzo 
 Perkins":https://www.baristaexchange.com/profile/Lorenzo
ATTENDEE;ROLE=REQ-PARTICIPANT;PARTSTAT=TENTATIVE;RSVP=TRUE;CN=rothko:h
 ttps://www.baristaexchange.com/profile/rothko
END:VEVENT
END:VCALENDAR
