BEGIN:VCALENDAR
PRODID:NingEventWidget-v1
VERSION:2.0
METHOD:PUBLISH
BEGIN:VTIMEZONE
TZID:America/Los_Angeles
X-LIC-LOCATION:America/Los_Angeles
BEGIN:DAYLIGHT
TZOFFSETFROM:-0800
TZOFFSETTO:-0700
TZNAME:PDT
DTSTART:19700308T020000
RRULE:FREQ=YEARLY;BYMONTH=3;BYDAY=2SU
END:DAYLIGHT
BEGIN:STANDARD
TZOFFSETFROM:-0700
TZOFFSETTO:-0800
TZNAME:PST
DTSTART:19701101T020000
RRULE:FREQ=YEARLY;BYMONTH=11;BYDAY=1SU
END:STANDARD
END:VTIMEZONE
BEGIN:VEVENT
UID:1688216:Event:1009937
DTSTAMP:20260421T015003Z
SUMMARY:Garrett County Job Fair
DESCRIPTION:I know this is probably a long shot for Barista Exchange g
 iven our location, but ...\n \nTraders Coffee House (in rural Western
  Maryland) will be attending the 2011 Garrett County Job fair, hosted 
 at Garrett College, in search of BARISTAS (and yes, we will train the
  right person). We will be accepting applications for seasonal and ye
 ar round as well as part time and full time employment. Come see us at
  the event or message me if you are interested!\n\nFor more informati
 on visit https://www.baristaexchange.com/events/garrett-county-job-fai
 r
DTSTART;TZID=America/Los_Angeles:20110324T150000
DTEND;TZID=America/Los_Angeles:20110324T190000
CATEGORIES:job, fair
LOCATION:Garrett College
WEBSITE:http://www.garrettcollege.edu/jobfair/
URL:http://www.garrettcollege.edu/jobfair/
CONTACT:301-387-9246
ORGANIZER:Garrett College
ATTACH;FMTTYPE="image/jpeg":http://storage.ning.com/topology/rest/1.0/
 file/get/91920954?profile=original
ATTENDEE;ROLE=REQ-PARTICIPANT;PARTSTAT=ACCEPTED;RSVP=TRUE;CN="Ashley N
  Ruby":https://www.baristaexchange.com/profile/AshleyNRuby
END:VEVENT
END:VCALENDAR
