BEGIN:VCALENDAR
PRODID:NingEventWidget-v1
VERSION:2.0
METHOD:PUBLISH
BEGIN:VTIMEZONE
TZID:America/Los_Angeles
X-LIC-LOCATION:America/Los_Angeles
BEGIN:DAYLIGHT
TZOFFSETFROM:-0800
TZOFFSETTO:-0700
TZNAME:PDT
DTSTART:19700308T020000
RRULE:FREQ=YEARLY;BYMONTH=3;BYDAY=2SU
END:DAYLIGHT
BEGIN:STANDARD
TZOFFSETFROM:-0700
TZOFFSETTO:-0800
TZNAME:PST
DTSTART:19701101T020000
RRULE:FREQ=YEARLY;BYMONTH=11;BYDAY=1SU
END:STANDARD
END:VTIMEZONE
BEGIN:VEVENT
UID:1688216:Event:1017955
DTSTAMP:20260421T163653Z
SUMMARY:Full Circle / Green Cafe Network Webinar: Greening Your Cafe -
  Wed. Feb. 2 12:30PST/3:30EST
DESCRIPTION:This Wednesday, Feb. 2nd, Full Circle will be sponsoring a
 nd co-hosting a free Webinar focused on sustainable practices in the c
 afé environment.  We have partnered with Green Café Network in an e
 ffort to highlight some common and not-so-common approaches to ‘gree
 ning’ your café operation.\n \nThe show will begin at 12:30 PST, 3
 :30 EST, and will run approximately 45 minutes.  We will be offering 
 tips and ideas for incorporating eco-friendly cleaning products into y
 our cleaning and maintenance routine.  Additionally, there will be a 
 Q & A period toward the end.  With a global audience, this should pro
 ve to be a thoughtful conversation. \n \nAttached is additional info
 rmation and the registration form.  Again, it is free and sign-up is 
 easy.  I hope you’ll be able to join us.\n \nhttp://greencafenetwo
 rk.org/blog/register-now-for-green-cafe-webinar-3-greening-your-routin
 e-on-feb-2/\n\nFor more information visit https://www.baristaexchange.
 com/events/full-circle-green-cafe
DTSTART;TZID=America/Los_Angeles:20110202T153000
DTEND;TZID=America/Los_Angeles:20110202T161500
CATEGORIES:webinar
LOCATION:Webinar
WEBSITE:http://greencafenetwork.org/blog/register-now-for-green-cafe-w
 ebinar-3-greening-your-routine-on-feb-2/
URL:http://greencafenetwork.org/blog/register-now-for-green-cafe-webin
 ar-3-greening-your-routine-on-feb-2/
CONTACT:
ORGANIZER:Full Circle Brand, a division of Urnex Brands, Inc.
ATTACH;FMTTYPE="image/jpeg":
ATTENDEE;ROLE=REQ-PARTICIPANT;PARTSTAT=ACCEPTED;RSVP=TRUE;CN="Maria Go
 rbea":https://www.baristaexchange.com/profile/MariaGorbea
ATTENDEE;ROLE=REQ-PARTICIPANT;PARTSTAT=ACCEPTED;RSVP=TRUE;CN="Urnex/Pu
 ro Caff®":https://www.baristaexchange.com/profile/UrnexPuroCaffr
END:VEVENT
END:VCALENDAR
