BEGIN:VCALENDAR
PRODID:NingEventWidget-v1
VERSION:2.0
METHOD:PUBLISH
BEGIN:VTIMEZONE
TZID:America/Los_Angeles
X-LIC-LOCATION:America/Los_Angeles
BEGIN:DAYLIGHT
TZOFFSETFROM:-0800
TZOFFSETTO:-0700
TZNAME:PDT
DTSTART:19700308T020000
RRULE:FREQ=YEARLY;BYMONTH=3;BYDAY=2SU
END:DAYLIGHT
BEGIN:STANDARD
TZOFFSETFROM:-0700
TZOFFSETTO:-0800
TZNAME:PST
DTSTART:19701101T020000
RRULE:FREQ=YEARLY;BYMONTH=11;BYDAY=1SU
END:STANDARD
END:VTIMEZONE
BEGIN:VEVENT
UID:1688216:Event:891469
DTSTAMP:20260425T194209Z
SUMMARY:First Friday
DESCRIPTION:Every First Friday of the month join us here at Perugino f
 or great live music a fantastic glass of wine and some killer atmosphe
 re!\n\nFor more information visit https://www.baristaexchange.com/even
 ts/first-friday
DTSTART;TZID=America/Los_Angeles:20100806T183000
DTEND;TZID=America/Los_Angeles:20100806T213000
CATEGORIES:live, music
LOCATION:Near the Hult Center
WEBSITE:
URL:
CONTACT:
ORGANIZER;CN="Perugino Cafe":https://www.baristaexchange.com/profile/P
 eruginoCafe
ATTACH;FMTTYPE="image/jpeg":
ATTENDEE;ROLE=REQ-PARTICIPANT;PARTSTAT=ACCEPTED;RSVP=TRUE;CN="Perugino
  Cafe":https://www.baristaexchange.com/profile/PeruginoCafe
END:VEVENT
END:VCALENDAR
