BEGIN:VCALENDAR
PRODID:NingEventWidget-v1
VERSION:2.0
METHOD:PUBLISH
BEGIN:VTIMEZONE
TZID:America/Los_Angeles
X-LIC-LOCATION:America/Los_Angeles
BEGIN:DAYLIGHT
TZOFFSETFROM:-0800
TZOFFSETTO:-0700
TZNAME:PDT
DTSTART:19700308T020000
RRULE:FREQ=YEARLY;BYMONTH=3;BYDAY=2SU
END:DAYLIGHT
BEGIN:STANDARD
TZOFFSETFROM:-0700
TZOFFSETTO:-0800
TZNAME:PST
DTSTART:19701101T020000
RRULE:FREQ=YEARLY;BYMONTH=11;BYDAY=1SU
END:STANDARD
END:VTIMEZONE
BEGIN:VEVENT
UID:1688216:Event:572216
DTSTAMP:20260422T033704Z
SUMMARY:Featured Artist of the Month at Java Rush Cafe
DESCRIPTION:Join us at Java Rush Cafe in Lake Havasu AZ on Friday Aug 
 7, 2009, for our Artist Open House. This month our featured artist is 
 Bill Stone. His stained glass sun catchers will be available to view a
 nd to buy during the open house and all month. We also feature artwork
  from the elementary schools, the community college, and local photogr
 aphers. The local High School Jazz Quintet, Combo Nation, will be perf
 orming on the patio.\n\nFor more information visit https://www.barista
 exchange.com/events/featured-artist-of-the-month
DTSTART;TZID=America/Los_Angeles:20090807T170000
DTEND;TZID=America/Los_Angeles:20090807T200000
CATEGORIES:artist, open, house
LOCATION:Smith's Plaza
WEBSITE:http://www.urbanspoon.com/u/map/788892/restaurant/Arizona/Java
 -Rush-Lake-Havasu-City
URL:http://www.urbanspoon.com/u/map/788892/restaurant/Arizona/Java-Rus
 h-Lake-Havasu-City
CONTACT:928-854-5282
ORGANIZER;CN="Steve and Terry Commeau":https://www.baristaexchange.com
 /profile/SteveandTerryCommeau
ATTACH;FMTTYPE="image/jpeg":http://storage.ning.com/topology/rest/1.0/
 file/get/91909190?profile=original
ATTENDEE;ROLE=REQ-PARTICIPANT;PARTSTAT=ACCEPTED;RSVP=TRUE;CN="Steve an
 d Terry Commeau":https://www.baristaexchange.com/profile/SteveandTerry
 Commeau
END:VEVENT
END:VCALENDAR
