BEGIN:VCALENDAR
PRODID:NingEventWidget-v1
VERSION:2.0
METHOD:PUBLISH
BEGIN:VTIMEZONE
TZID:America/Los_Angeles
X-LIC-LOCATION:America/Los_Angeles
BEGIN:DAYLIGHT
TZOFFSETFROM:-0800
TZOFFSETTO:-0700
TZNAME:PDT
DTSTART:19700308T020000
RRULE:FREQ=YEARLY;BYMONTH=3;BYDAY=2SU
END:DAYLIGHT
BEGIN:STANDARD
TZOFFSETFROM:-0700
TZOFFSETTO:-0800
TZNAME:PST
DTSTART:19701101T020000
RRULE:FREQ=YEARLY;BYMONTH=11;BYDAY=1SU
END:STANDARD
END:VTIMEZONE
BEGIN:VEVENT
UID:1688216:Event:866106
DTSTAMP:20260424T120518Z
SUMMARY:Dripolator Coffee Bar's 1st Anniversary Bash
DESCRIPTION:\n\nFor more information visit https://www.baristaexchange
 .com/events/dripolator-coffee-bars-1st
DTSTART;TZID=America/Los_Angeles:20100619T000000
DTEND;TZID=America/Los_Angeles:20100619T235900
CATEGORIES:its, a, "celebration!"
LOCATION:the drip
WEBSITE:http://www.dripasheville.com
URL:http://www.dripasheville.com
CONTACT:828.398.0209
ORGANIZER;CN="scott satterwhite":https://www.baristaexchange.com/profi
 le/scottsatterwhite
ATTACH;FMTTYPE="image/jpeg":http://storage.ning.com/topology/rest/1.0/
 file/get/91918261?profile=original
ATTENDEE;ROLE=REQ-PARTICIPANT;PARTSTAT=ACCEPTED;RSVP=TRUE;CN="scott sa
 tterwhite":https://www.baristaexchange.com/profile/scottsatterwhite
END:VEVENT
END:VCALENDAR
