BEGIN:VCALENDAR
PRODID:NingEventWidget-v1
VERSION:2.0
METHOD:PUBLISH
BEGIN:VTIMEZONE
TZID:America/Los_Angeles
X-LIC-LOCATION:America/Los_Angeles
BEGIN:DAYLIGHT
TZOFFSETFROM:-0800
TZOFFSETTO:-0700
TZNAME:PDT
DTSTART:19700308T020000
RRULE:FREQ=YEARLY;BYMONTH=3;BYDAY=2SU
END:DAYLIGHT
BEGIN:STANDARD
TZOFFSETFROM:-0700
TZOFFSETTO:-0800
TZNAME:PST
DTSTART:19701101T020000
RRULE:FREQ=YEARLY;BYMONTH=11;BYDAY=1SU
END:STANDARD
END:VTIMEZONE
BEGIN:VEVENT
UID:1688216:Event:655730
DTSTAMP:20260422T023633Z
SUMMARY:Dripolator Asheville TNT
DESCRIPTION:Thursday Night Throwdown in Asheville, NC at Dripolator Co
 ffee Bar. Starts at 7pm, Spectators welcome and any and all Baristas! 
 DJ Z/Clif, 3 Wedge Beers on tap, and a darn good time guaranteed! $5 e
 ntry, the root'n'toot'n'est barista takes the pot!\n\nFor more informa
 tion visit https://www.baristaexchange.com/events/dripolator-asheville
 -tnt
DTSTART;TZID=America/Los_Angeles:20091015T190000
DTEND;TZID=America/Los_Angeles:20091015T220000
CATEGORIES:latte, art, "throwdown/barista", jam
LOCATION:Dripolator Coffee Bar
WEBSITE:http://dripasheville.com/directions.php
URL:http://dripasheville.com/directions.php
CONTACT:(828) 398-0209
ORGANIZER;CN="scott satterwhite":https://www.baristaexchange.com/profi
 le/scottsatterwhite
ATTACH;FMTTYPE="image/jpeg":http://storage.ning.com/topology/rest/1.0/
 file/get/91912474?profile=original
ATTENDEE;ROLE=REQ-PARTICIPANT;PARTSTAT=ACCEPTED;RSVP=TRUE;CN="scott sa
 tterwhite":https://www.baristaexchange.com/profile/scottsatterwhite
END:VEVENT
END:VCALENDAR
