BEGIN:VCALENDAR
PRODID:NingEventWidget-v1
VERSION:2.0
METHOD:PUBLISH
BEGIN:VTIMEZONE
TZID:America/Los_Angeles
X-LIC-LOCATION:America/Los_Angeles
BEGIN:DAYLIGHT
TZOFFSETFROM:-0800
TZOFFSETTO:-0700
TZNAME:PDT
DTSTART:19700308T020000
RRULE:FREQ=YEARLY;BYMONTH=3;BYDAY=2SU
END:DAYLIGHT
BEGIN:STANDARD
TZOFFSETFROM:-0700
TZOFFSETTO:-0800
TZNAME:PST
DTSTART:19701101T020000
RRULE:FREQ=YEARLY;BYMONTH=11;BYDAY=1SU
END:STANDARD
END:VTIMEZONE
BEGIN:VEVENT
UID:1688216:Event:973505
DTSTAMP:20260422T085940Z
SUMMARY:Drink Local Coffee Festival
DESCRIPTION:Drink Local Coffee Festival, hosted at Cuvee Coffee in Spi
 cewood. Whether your love for coffee is professional or recreational, 
 this event will offer a taste of Austin’s burgeoning coffee culture.
  Sample coffee and coffee drinks from Central Texas’s favorite coffe
 e roasters as well as Christen's Gourmet Pralines serving pralines and
  beignets. Each roaster will also have coffee beans and products avail
 able for sale. Enjoy talks and panels discussions on coffee topics inc
 luding how to brew and the differences between fair trade and direct t
 rade.\n\nAs part of the event, there will also be a Latte Art Throwdow
 n, presented in tournament style brakcets. Mano a mano. The $10 buy in
  will be donated to the charity, Urban Roots, with prizes for the top 
 three finishers graciously donated by local business. Come strut your 
 barista skills, or come cheer on your favorite local barista...who kno
 ws, we might even learn a thing or two from eachother.\n\nFor more inf
 ormation visit https://www.baristaexchange.com/events/drink-local-coff
 ee-festival
DTSTART;TZID=America/Los_Angeles:20101205T110000
DTEND;TZID=America/Los_Angeles:20101205T150000
CATEGORIES:"latte art throwdown", drink, local, eat
LOCATION:Cuvee Coffee Roasterworks
WEBSITE:http://www.edibleaustin.com/content/events
URL:http://www.edibleaustin.com/content/events
CONTACT:
ORGANIZER:Lorenzo Perkins, Mike McKim, David Alan
ATTACH;FMTTYPE="image/jpeg":http://storage.ning.com/topology/rest/1.0/
 file/get/91920429?profile=original
ATTENDEE;ROLE=REQ-PARTICIPANT;PARTSTAT=ACCEPTED;RSVP=TRUE;CN="Jonathan
  Meadows":https://www.baristaexchange.com/profile/JonathanMeadows
ATTENDEE;ROLE=REQ-PARTICIPANT;PARTSTAT=ACCEPTED;RSVP=TRUE;CN="Lorenzo 
 Perkins":https://www.baristaexchange.com/profile/Lorenzo
END:VEVENT
END:VCALENDAR
