BEGIN:VCALENDAR
PRODID:NingEventWidget-v1
VERSION:2.0
METHOD:PUBLISH
BEGIN:VTIMEZONE
TZID:America/Los_Angeles
X-LIC-LOCATION:America/Los_Angeles
BEGIN:DAYLIGHT
TZOFFSETFROM:-0800
TZOFFSETTO:-0700
TZNAME:PDT
DTSTART:19700308T020000
RRULE:FREQ=YEARLY;BYMONTH=3;BYDAY=2SU
END:DAYLIGHT
BEGIN:STANDARD
TZOFFSETFROM:-0700
TZOFFSETTO:-0800
TZNAME:PST
DTSTART:19701101T020000
RRULE:FREQ=YEARLY;BYMONTH=11;BYDAY=1SU
END:STANDARD
END:VTIMEZONE
BEGIN:VEVENT
UID:1688216:Event:620491
DTSTAMP:20260423T150815Z
SUMMARY:DeAnna Wendolyn Live!
DESCRIPTION:YOU’RE INVITED!\n\nLIVE MUSICAL PERFORMANCE\nBY SINGER/G
 UITARIST\nDEANNA WENDOLYN\n\nSATURDAY SEPTEMBER 19TH @ 7:00 P.M.\nBe s
 ure to drop by and show her your support!\n\n2733 N Collins #117, Arli
 ngton TX, 76006\nPRIMO COFFEE & TEA\n\nFor more information visit http
 s://www.baristaexchange.com/events/deanna-wendolyn-live
DTSTART;TZID=America/Los_Angeles:20090919T190000
DTEND;TZID=America/Los_Angeles:20090919T220000
CATEGORIES:live, acoustic, music
LOCATION:Primo Coffee & Tea
WEBSITE:http://www.primocoffeeweb.com
URL:http://www.primocoffeeweb.com
CONTACT:8172775300
ORGANIZER;CN=Mo:https://www.baristaexchange.com/profile/Mo
ATTACH;FMTTYPE="image/jpeg":
ATTENDEE;ROLE=REQ-PARTICIPANT;PARTSTAT=ACCEPTED;RSVP=TRUE;CN=Mo:https:
 //www.baristaexchange.com/profile/Mo
END:VEVENT
END:VCALENDAR
