BEGIN:VCALENDAR
PRODID:NingEventWidget-v1
VERSION:2.0
METHOD:PUBLISH
BEGIN:VTIMEZONE
TZID:America/Los_Angeles
X-LIC-LOCATION:America/Los_Angeles
BEGIN:DAYLIGHT
TZOFFSETFROM:-0800
TZOFFSETTO:-0700
TZNAME:PDT
DTSTART:19700308T020000
RRULE:FREQ=YEARLY;BYMONTH=3;BYDAY=2SU
END:DAYLIGHT
BEGIN:STANDARD
TZOFFSETFROM:-0700
TZOFFSETTO:-0800
TZNAME:PST
DTSTART:19701101T020000
RRULE:FREQ=YEARLY;BYMONTH=11;BYDAY=1SU
END:STANDARD
END:VTIMEZONE
BEGIN:VEVENT
UID:1688216:Event:575508
DTSTAMP:20260422T063729Z
SUMMARY:Concorso Italiano 2009 - Laguna Seca Golf Course
DESCRIPTION:Concorso Italiano is a big, annual event in Monterey and w
 ill be Friday August 14, 2009. We will be there in the mobile coffee c
 art pulling shots for all who savor espresso and fine coffee.\n\nFor m
 ore information visit https://www.baristaexchange.com/events/concorso-
 italiano-2009-laguna
DTSTART;TZID=America/Los_Angeles:20090814T000000
DTEND;TZID=America/Los_Angeles:20090814T235900
CATEGORIES:italian, car, and, motorcycle, event
LOCATION:Laguna Seca , Monterey, CA.
WEBSITE:
URL:
CONTACT:
ORGANIZER:Concorso Italiano
ATTACH;FMTTYPE="image/jpeg":http://storage.ning.com/topology/rest/1.0/
 file/get/91909468?profile=original
ATTENDEE;ROLE=REQ-PARTICIPANT;PARTSTAT=ACCEPTED;RSVP=TRUE;CN="Moto-Esp
 resso Coffee Carts":https://www.baristaexchange.com/profile/RogerVande
 vert
END:VEVENT
END:VCALENDAR
