BEGIN:VCALENDAR
PRODID:NingEventWidget-v1
VERSION:2.0
METHOD:PUBLISH
BEGIN:VTIMEZONE
TZID:America/Los_Angeles
X-LIC-LOCATION:America/Los_Angeles
BEGIN:DAYLIGHT
TZOFFSETFROM:-0800
TZOFFSETTO:-0700
TZNAME:PDT
DTSTART:19700308T020000
RRULE:FREQ=YEARLY;BYMONTH=3;BYDAY=2SU
END:DAYLIGHT
BEGIN:STANDARD
TZOFFSETFROM:-0700
TZOFFSETTO:-0800
TZNAME:PST
DTSTART:19701101T020000
RRULE:FREQ=YEARLY;BYMONTH=11;BYDAY=1SU
END:STANDARD
END:VTIMEZONE
BEGIN:VEVENT
UID:1688216:Event:579715
DTSTAMP:20260422T095855Z
SUMMARY:Coffee vending machine demonstration
DESCRIPTION:Join us to learn more about the Bianchi Vending Machine ra
 nge and the benefits of owning or renting one\n\nFor more information 
 visit https://www.baristaexchange.com/events/coffee-vending-machine
DTSTART;TZID=America/Los_Angeles:20090818T140000
DTEND;TZID=America/Los_Angeles:20090818T160000
CATEGORIES:demonstration
LOCATION:Frontier Coffee Head Office
WEBSITE:http://www.frontiercoffee.co.za
URL:http://www.frontiercoffee.co.za
CONTACT:
ORGANIZER;CN="Coffee Guy":https://www.baristaexchange.com/profile/coff
 ee_guy
ATTACH;FMTTYPE="image/jpeg":
ATTENDEE;ROLE=REQ-PARTICIPANT;PARTSTAT=ACCEPTED;RSVP=TRUE;CN="Coffee G
 uy":https://www.baristaexchange.com/profile/coffee_guy
END:VEVENT
END:VCALENDAR
