BEGIN:VCALENDAR
PRODID:NingEventWidget-v1
VERSION:2.0
METHOD:PUBLISH
BEGIN:VTIMEZONE
TZID:America/Los_Angeles
X-LIC-LOCATION:America/Los_Angeles
BEGIN:DAYLIGHT
TZOFFSETFROM:-0800
TZOFFSETTO:-0700
TZNAME:PDT
DTSTART:19700308T020000
RRULE:FREQ=YEARLY;BYMONTH=3;BYDAY=2SU
END:DAYLIGHT
BEGIN:STANDARD
TZOFFSETFROM:-0700
TZOFFSETTO:-0800
TZNAME:PST
DTSTART:19701101T020000
RRULE:FREQ=YEARLY;BYMONTH=11;BYDAY=1SU
END:STANDARD
END:VTIMEZONE
BEGIN:VEVENT
UID:1688216:Event:987821
DTSTAMP:20260422T042006Z
SUMMARY:Coffee Social Club & Pour Off
DESCRIPTION:Calling all baristi and coffee people.     * We will st
 art this lovely event with a short presentation about a roaster's jour
 ney to El Salvador, given by the former South Central Regional Barista
  Champion, Clancy Rose. Clancy is the roaster dude for Cuvee Coffee. 
    * Next, Lorenzo Perkins, the reigning SCRBC Champion, will run th
 rough a competition routine. This is very important for anyone who wan
 ts to compete but might not be too sure what to expect. We will have s
 ome legit judges up in there, but we will also have open spots if peop
 le want to fill in. This is also a helpful tool for seeing the routine
  from a judge's point-of-view    * After that, Patrick and Lorenzo 
 will answer any questions that people have pertaining to competition. 
 The guys will have a nice little handout with some tips, maybe some tr
 icks.     * Lastly, we will have our latte art throwdown. Buy in is
  five bucks. Winner take all. Bring it on suckers.\n \nHope to see yo
 u all there. Let me know if you have any questions. By the way, we wil
 l have BEER. So drink early all you baristi, it makes latte art compet
 itions that much better.\n\nFor more information visit https://www.bar
 istaexchange.com/events/coffee-social-club-pour-off
DTSTART;TZID=America/Los_Angeles:20110108T170000
DTEND;TZID=America/Los_Angeles:20110108T210000
CATEGORIES:barista, jam, latte, art, competition
LOCATION:Caffe Medici
WEBSITE:http://maps.google.com/maps?f=q&source=s_q&hl=en&geocode=&q=22
 22+b+guadalupe+st,+austin,+tx&sll=37.0625,-95.677068&sspn=31.095668,53
 .173828&ie=UTF8&hq=&hnear=2222+Guadalupe+St,+Austin,+Travis,+Texas+787
 12&z=16
URL:http://maps.google.com/maps?f=q&source=s_q&hl=en&geocode=&q=2222+b
 +guadalupe+st,+austin,+tx&sll=37.0625,-95.677068&sspn=31.095668,53.173
 828&ie=UTF8&hq=&hnear=2222+Guadalupe+St,+Austin,+Travis,+Texas+78712&z
 =16
CONTACT:
ORGANIZER:Patrick Pierce, Lorenzo Perkins
ATTACH;FMTTYPE="image/jpeg":
ATTENDEE;ROLE=REQ-PARTICIPANT;PARTSTAT=ACCEPTED;RSVP=TRUE;CN="Jonathan
  Meadows":https://www.baristaexchange.com/profile/JonathanMeadows
ATTENDEE;ROLE=REQ-PARTICIPANT;PARTSTAT=ACCEPTED;RSVP=TRUE;CN="Lisa Ket
 tyle":https://www.baristaexchange.com/profile/LisaKettyle
ATTENDEE;ROLE=REQ-PARTICIPANT;PARTSTAT=ACCEPTED;RSVP=TRUE;CN="Patrick 
 Pierce":https://www.baristaexchange.com/profile/PatrickPierce
END:VEVENT
END:VCALENDAR
