BEGIN:VCALENDAR
PRODID:NingEventWidget-v1
VERSION:2.0
METHOD:PUBLISH
BEGIN:VTIMEZONE
TZID:America/Los_Angeles
X-LIC-LOCATION:America/Los_Angeles
BEGIN:DAYLIGHT
TZOFFSETFROM:-0800
TZOFFSETTO:-0700
TZNAME:PDT
DTSTART:19700308T020000
RRULE:FREQ=YEARLY;BYMONTH=3;BYDAY=2SU
END:DAYLIGHT
BEGIN:STANDARD
TZOFFSETFROM:-0700
TZOFFSETTO:-0800
TZNAME:PST
DTSTART:19701101T020000
RRULE:FREQ=YEARLY;BYMONTH=11;BYDAY=1SU
END:STANDARD
END:VTIMEZONE
BEGIN:VEVENT
UID:1688216:Event:307224
DTSTAMP:20260420T013149Z
SUMMARY:coffee shop jam
DESCRIPTION:\nlive music latte art competition cupping raffle\n\nFor m
 ore information visit https://www.baristaexchange.com/events/coffee-sh
 op-jam
DTSTART;TZID=America/Los_Angeles:20090204T170000
DTEND;TZID=America/Los_Angeles:20090204T200000
CATEGORIES:party
LOCATION:red bird kaffi haus
WEBSITE:http://www.redbirdkaffi.com
URL:http://www.redbirdkaffi.com
CONTACT:509 885 7564
ORGANIZER;CN="CHARLEY'S RED BIRD":https://www.baristaexchange.com/prof
 ile/TRIHOUSE
ATTACH;FMTTYPE="image/jpeg":http://storage.ning.com/topology/rest/1.0/
 file/get/91904923?profile=original
ATTENDEE;ROLE=REQ-PARTICIPANT;PARTSTAT=ACCEPTED;RSVP=TRUE;CN="CHARLEY'
 S RED BIRD":https://www.baristaexchange.com/profile/TRIHOUSE
END:VEVENT
END:VCALENDAR
