BEGIN:VCALENDAR
PRODID:NingEventWidget-v1
VERSION:2.0
METHOD:PUBLISH
BEGIN:VTIMEZONE
TZID:America/Los_Angeles
X-LIC-LOCATION:America/Los_Angeles
BEGIN:DAYLIGHT
TZOFFSETFROM:-0800
TZOFFSETTO:-0700
TZNAME:PDT
DTSTART:19700308T020000
RRULE:FREQ=YEARLY;BYMONTH=3;BYDAY=2SU
END:DAYLIGHT
BEGIN:STANDARD
TZOFFSETFROM:-0700
TZOFFSETTO:-0800
TZNAME:PST
DTSTART:19701101T020000
RRULE:FREQ=YEARLY;BYMONTH=11;BYDAY=1SU
END:STANDARD
END:VTIMEZONE
BEGIN:VEVENT
UID:1688216:Event:1740522
DTSTAMP:20260421T031359Z
SUMMARY:coffee roasting lessons.
DESCRIPTION:Come and get your hands on a roaster for a few hours.\nFul
 l press coffee.....EN10 7FF\n\nwe don't charge.....only for the coffee
  you use.\n\nevery saturday\nget in contact.\n\n\nFor more information
  visit https://www.baristaexchange.com/events/coffee-roasting-lessons
DTSTART;TZID=America/Los_Angeles:20210613T130000
DTEND;TZID=America/Los_Angeles:20210613T190000
CATEGORIES:amazing
LOCATION:En10 7FF
WEBSITE:http://fullpresscoffee.com
URL:http://fullpresscoffee.com
CONTACT:07980000708
ORGANIZER;CN="roger baker":https://www.baristaexchange.com/profile/rog
 erbaker
ATTACH;FMTTYPE="image/jpeg":
ATTENDEE;ROLE=REQ-PARTICIPANT;PARTSTAT=ACCEPTED;RSVP=TRUE;CN="roger ba
 ker":https://www.baristaexchange.com/profile/rogerbaker
END:VEVENT
END:VCALENDAR
