BEGIN:VCALENDAR
PRODID:NingEventWidget-v1
VERSION:2.0
METHOD:PUBLISH
BEGIN:VTIMEZONE
TZID:America/Los_Angeles
X-LIC-LOCATION:America/Los_Angeles
BEGIN:DAYLIGHT
TZOFFSETFROM:-0800
TZOFFSETTO:-0700
TZNAME:PDT
DTSTART:19700308T020000
RRULE:FREQ=YEARLY;BYMONTH=3;BYDAY=2SU
END:DAYLIGHT
BEGIN:STANDARD
TZOFFSETFROM:-0700
TZOFFSETTO:-0800
TZNAME:PST
DTSTART:19701101T020000
RRULE:FREQ=YEARLY;BYMONTH=11;BYDAY=1SU
END:STANDARD
END:VTIMEZONE
BEGIN:VEVENT
UID:1688216:Event:413972
DTSTAMP:20260421T201947Z
SUMMARY:Coffee Kids Reception at SCAA
DESCRIPTION:Attend the Coffee Kids Reception sponsored by InterAmerica
 n Coffee at the SCAA Exposition in Atlanta, Ga. The event will be held
  Friday, April 17 from 5-7pm, in Room 302A at the Georgia World Congre
 ss Center.\n\nWe will be holding a drawing for a Sonofresco Roaster ($
 3,500 value), a Coffee Kids quiz and a presentation from one of our pa
 rtners working in Nicaragua.\n\nCall 505-820-1443 or e-mail info@coffe
 ekids.org for more information.\n\nFor more information visit https://
 www.baristaexchange.com/events/coffee-kids-reception-at-scaa
DTSTART;TZID=America/Los_Angeles:20090417T170000
DTEND;TZID=America/Los_Angeles:20090417T190000
CATEGORIES:fundraiser, social, event
LOCATION:Room 302A at the Georgia World Congress Center
WEBSITE:http://www.coffeekids.org/blog/comments/interamerican-coffee-s
 ponsors-reception-at-scaa/
URL:http://www.coffeekids.org/blog/comments/interamerican-coffee-spons
 ors-reception-at-scaa/
CONTACT:505-820-1443
ORGANIZER;CN="Coffee Kids":https://www.baristaexchange.com/profile/Cof
 feeKids
ATTACH;FMTTYPE="image/jpeg":http://storage.ning.com/topology/rest/1.0/
 file/get/91906431?profile=original
ATTENDEE;ROLE=REQ-PARTICIPANT;PARTSTAT=ACCEPTED;RSVP=TRUE;CN="Coffee K
 ids":https://www.baristaexchange.com/profile/CoffeeKids
END:VEVENT
END:VCALENDAR
