BEGIN:VCALENDAR
PRODID:NingEventWidget-v1
VERSION:2.0
METHOD:PUBLISH
BEGIN:VTIMEZONE
TZID:America/Los_Angeles
X-LIC-LOCATION:America/Los_Angeles
BEGIN:DAYLIGHT
TZOFFSETFROM:-0800
TZOFFSETTO:-0700
TZNAME:PDT
DTSTART:19700308T020000
RRULE:FREQ=YEARLY;BYMONTH=3;BYDAY=2SU
END:DAYLIGHT
BEGIN:STANDARD
TZOFFSETFROM:-0700
TZOFFSETTO:-0800
TZNAME:PST
DTSTART:19701101T020000
RRULE:FREQ=YEARLY;BYMONTH=11;BYDAY=1SU
END:STANDARD
END:VTIMEZONE
BEGIN:VEVENT
UID:1688216:Event:330050
DTSTAMP:20260421T063607Z
SUMMARY:Coffee Festival China 2009
DESCRIPTION:The 2008 Coffee Festival China attracted more than 80 well
 -known coffee related companies\n\nand 60,000 professional purchasers 
 from 62countries. 94% of the participants had achieved their expected 
 objectives.\n\nThe Coffee Festival was held simultaneously with China 
 Bakery Exhibition, which is the largest and most influential one in Ch
 ina. The total exhibiting area reaches 36000 sqm. The two fair last ye
 ar attracted more than 600 exhibitors from over 30 countries and about
  80,000 visitors.\n\nFor more information visit https://www.baristaexc
 hange.com/events/coffee-festival-china-2009
DTSTART;TZID=America/Los_Angeles:20090521T090000
DTEND;TZID=America/Los_Angeles:20090523T190000
CATEGORIES:expo
LOCATION:Guangzhou International Convention & Exhibition Centre
WEBSITE:http://www.faircanton.com/coffee
URL:http://www.faircanton.com/coffee
CONTACT:
ORGANIZER:Canton Universal Fair Group Ltd
ATTACH;FMTTYPE="image/jpeg":http://storage.ning.com/topology/rest/1.0/
 file/get/91905151?profile=original
ATTENDEE;ROLE=REQ-PARTICIPANT;PARTSTAT=ACCEPTED;RSVP=TRUE;CN="Alun Eva
 ns":https://www.baristaexchange.com/profile/AlunEvans
END:VEVENT
END:VCALENDAR
