BEGIN:VCALENDAR
PRODID:NingEventWidget-v1
VERSION:2.0
METHOD:PUBLISH
BEGIN:VTIMEZONE
TZID:America/Los_Angeles
X-LIC-LOCATION:America/Los_Angeles
BEGIN:DAYLIGHT
TZOFFSETFROM:-0800
TZOFFSETTO:-0700
TZNAME:PDT
DTSTART:19700308T020000
RRULE:FREQ=YEARLY;BYMONTH=3;BYDAY=2SU
END:DAYLIGHT
BEGIN:STANDARD
TZOFFSETFROM:-0700
TZOFFSETTO:-0800
TZNAME:PST
DTSTART:19701101T020000
RRULE:FREQ=YEARLY;BYMONTH=11;BYDAY=1SU
END:STANDARD
END:VTIMEZONE
BEGIN:VEVENT
UID:1688216:Event:901139
DTSTAMP:20260422T201705Z
SUMMARY:Coffee Fest
DESCRIPTION:In this challenging time of economic uncertainty, with tru
 sted advice more valuable than ever, Coffee Fest brings you the nation
 's best retail operators and industry professionals and consultants to
  ensure your business survives and even thrives with today's profitabi
 lity threats and tomorrow's challenges.\n\nCoffee Fest is a TRADE ONLY
  event - only those businesses with coffee, tea, or related products m
 ay attend. Coffee Fest is not open to the general public.\n\nHealthyCo
 ffee will be exhibiting their full range of gourmet healthy beverages 
 on stand #6 as well as exhibiting via the New Product Showcase.\n\nThi
 s is a exciting opportunity for anyone involved in the coffee industry
  to discover the HealthyCoffee products and the business opportunity t
 hat is available.\n\nFor more information visit https://www.baristaexc
 hange.com/events/coffee-fest
DTSTART;TZID=America/Los_Angeles:20101029T000000
DTEND;TZID=America/Los_Angeles:20101031T235900
CATEGORIES:trade, supplier, event
LOCATION:Washington State Convention & Trade Center
WEBSITE:http://www.CoffeeFest.com
URL:http://www.CoffeeFest.com
CONTACT:(425) 295-3300
ORGANIZER:CoffeeFest.com
ATTACH;FMTTYPE="image/jpeg":http://storage.ning.com/topology/rest/1.0/
 file/get/91919024?profile=original
ATTENDEE;ROLE=REQ-PARTICIPANT;PARTSTAT=ACCEPTED;RSVP=TRUE;CN="John  Ma
 ngrum jr":https://www.baristaexchange.com/profile/JohnMangrumjr
ATTENDEE;ROLE=REQ-PARTICIPANT;PARTSTAT=ACCEPTED;RSVP=TRUE;CN=Terika:ht
 tps://www.baristaexchange.com/profile/Terika
ATTENDEE;ROLE=REQ-PARTICIPANT;PARTSTAT=ACCEPTED;RSVP=TRUE;CN="Scott Ba
 ldwin":https://www.baristaexchange.com/profile/ScottBaldwin
ATTENDEE;ROLE=REQ-PARTICIPANT;PARTSTAT=ACCEPTED;RSVP=TRUE;CN="Tony Gre
 wing":https://www.baristaexchange.com/profile/TonyGrewing
ATTENDEE;ROLE=REQ-PARTICIPANT;PARTSTAT=ACCEPTED;RSVP=TRUE;CN="Bob Gask
 ell":https://www.baristaexchange.com/profile/BobGaskell178
ATTENDEE;ROLE=REQ-PARTICIPANT;PARTSTAT=TENTATIVE;RSVP=TRUE;CN="Lithium
  Vanity":https://www.baristaexchange.com/profile/LithiumVanity
END:VEVENT
END:VCALENDAR
