BEGIN:VCALENDAR
PRODID:NingEventWidget-v1
VERSION:2.0
METHOD:PUBLISH
BEGIN:VTIMEZONE
TZID:America/Los_Angeles
X-LIC-LOCATION:America/Los_Angeles
BEGIN:DAYLIGHT
TZOFFSETFROM:-0800
TZOFFSETTO:-0700
TZNAME:PDT
DTSTART:19700308T020000
RRULE:FREQ=YEARLY;BYMONTH=3;BYDAY=2SU
END:DAYLIGHT
BEGIN:STANDARD
TZOFFSETFROM:-0700
TZOFFSETTO:-0800
TZNAME:PST
DTSTART:19701101T020000
RRULE:FREQ=YEARLY;BYMONTH=11;BYDAY=1SU
END:STANDARD
END:VTIMEZONE
BEGIN:VEVENT
UID:1688216:Event:542352
DTSTAMP:20260423T214651Z
SUMMARY:Coffee Fest Seattle
DESCRIPTION:Coffee Fest Seattle 2009\nWashington State Convention & Tr
 ade Center\n\nSeptember 25 - 27, 2009\n\nIn this challenging era of ec
 onomic uncertainty, with trusted advice more valuable than ever, Coffe
 e Fest brings you the nation's best retail operators and industry cons
 ultants to ensure your business survives and even thrives today's prof
 itability threats and tomorrow's challenges.\n\nFor more information v
 isit https://www.baristaexchange.com/events/coffee-fest-seattle
DTSTART;TZID=America/Los_Angeles:20090925T000000
DTEND;TZID=America/Los_Angeles:20090927T235900
CATEGORIES:coffee, industry, tradeshow
LOCATION:Washington State Convention & Trade Center
WEBSITE:http://coffeefest.com
URL:http://coffeefest.com
CONTACT:(425) 295-3300
ORGANIZER:Coffee Fest & Lifestyle Events
ATTACH;FMTTYPE="image/jpeg":http://storage.ning.com/topology/rest/1.0/
 file/get/91908376?profile=original
ATTENDEE;ROLE=REQ-PARTICIPANT;PARTSTAT=ACCEPTED;RSVP=TRUE;CN="Cody Kir
 kland":https://www.baristaexchange.com/profile/CodyKirkland
ATTENDEE;ROLE=REQ-PARTICIPANT;PARTSTAT=ACCEPTED;RSVP=TRUE;CN="Myra Jad
 e Castillo":https://www.baristaexchange.com/profile/MyraJadeCastillo
ATTENDEE;ROLE=REQ-PARTICIPANT;PARTSTAT=ACCEPTED;RSVP=TRUE;CN="Sarah Sa
 nfino":https://www.baristaexchange.com/profile/SarahSanfino
ATTENDEE;ROLE=REQ-PARTICIPANT;PARTSTAT=ACCEPTED;RSVP=TRUE;CN="Mark Tru
 jillo":https://www.baristaexchange.com/profile/MarkTrujillo
ATTENDEE;ROLE=REQ-PARTICIPANT;PARTSTAT=ACCEPTED;RSVP=TRUE;CN=Steve:htt
 ps://www.baristaexchange.com/profile/Stephen89
ATTENDEE;ROLE=REQ-PARTICIPANT;PARTSTAT=ACCEPTED;RSVP=TRUE;CN=Erin:http
 s://www.baristaexchange.com/profile/Erin47
ATTENDEE;ROLE=REQ-PARTICIPANT;PARTSTAT=ACCEPTED;RSVP=TRUE;CN="Bryan Dy
 er":https://www.baristaexchange.com/profile/BryanD
ATTENDEE;ROLE=REQ-PARTICIPANT;PARTSTAT=ACCEPTED;RSVP=TRUE;CN="Miguel Z
 amora":https://www.baristaexchange.com/profile/Miguel69
ATTENDEE;ROLE=REQ-PARTICIPANT;PARTSTAT=ACCEPTED;RSVP=TRUE;CN="william 
 kevin emmons":https://www.baristaexchange.com/profile/williamkevinemmo
 ns
ATTENDEE;ROLE=REQ-PARTICIPANT;PARTSTAT=ACCEPTED;RSVP=TRUE;CN="Scott Br
 uggman":https://www.baristaexchange.com/profile/ScottBruggman
ATTENDEE;ROLE=REQ-PARTICIPANT;PARTSTAT=ACCEPTED;RSVP=TRUE;CN="brady jo
 hn macdonald":https://www.baristaexchange.com/profile/bradyjohnmacdona
 ld
ATTENDEE;ROLE=REQ-PARTICIPANT;PARTSTAT=ACCEPTED;RSVP=TRUE;CN="Benza La
 nce":https://www.baristaexchange.com/profile/BenzaLance
ATTENDEE;ROLE=REQ-PARTICIPANT;PARTSTAT=ACCEPTED;RSVP=TRUE;CN=Eva:https
 ://www.baristaexchange.com/profile/Eva
ATTENDEE;ROLE=REQ-PARTICIPANT;PARTSTAT=ACCEPTED;RSVP=TRUE;CN="Mike Spe
 nce":https://www.baristaexchange.com/profile/MikeSpence
ATTENDEE;ROLE=REQ-PARTICIPANT;PARTSTAT=ACCEPTED;RSVP=TRUE;CN="Masa Oni
 shi":https://www.baristaexchange.com/profile/MasahiroOnishi
ATTENDEE;ROLE=REQ-PARTICIPANT;PARTSTAT=ACCEPTED;RSVP=TRUE;CN="Alex Neg
 ranza":https://www.baristaexchange.com/profile/AlexNegranza
ATTENDEE;ROLE=REQ-PARTICIPANT;PARTSTAT=ACCEPTED;RSVP=TRUE;CN="Andrew R
 . Tucker":https://www.baristaexchange.com/profile/AndrewRTucker
ATTENDEE;ROLE=REQ-PARTICIPANT;PARTSTAT=ACCEPTED;RSVP=TRUE;CN="Jarred H
 offpauir":https://www.baristaexchange.com/profile/JarredHoffpauir
ATTENDEE;ROLE=REQ-PARTICIPANT;PARTSTAT=ACCEPTED;RSVP=TRUE;CN="Matt Mil
 letto":https://www.baristaexchange.com/profile/mattmilletto
ATTENDEE;ROLE=REQ-PARTICIPANT;PARTSTAT=TENTATIVE;RSVP=TRUE;CN="Lithium
  Vanity":https://www.baristaexchange.com/profile/LithiumVanity
ATTENDEE;ROLE=REQ-PARTICIPANT;PARTSTAT=TENTATIVE;RSVP=TRUE;CN="Travis 
 Smith":https://www.baristaexchange.com/profile/TravisSmith
ATTENDEE;ROLE=REQ-PARTICIPANT;PARTSTAT=TENTATIVE;RSVP=TRUE;CN="Holly J
 osey":https://www.baristaexchange.com/profile/HJosey
END:VEVENT
END:VCALENDAR
