BEGIN:VCALENDAR
PRODID:NingEventWidget-v1
VERSION:2.0
METHOD:PUBLISH
BEGIN:VTIMEZONE
TZID:America/Los_Angeles
X-LIC-LOCATION:America/Los_Angeles
BEGIN:DAYLIGHT
TZOFFSETFROM:-0800
TZOFFSETTO:-0700
TZNAME:PDT
DTSTART:19700308T020000
RRULE:FREQ=YEARLY;BYMONTH=3;BYDAY=2SU
END:DAYLIGHT
BEGIN:STANDARD
TZOFFSETFROM:-0700
TZOFFSETTO:-0800
TZNAME:PST
DTSTART:19701101T020000
RRULE:FREQ=YEARLY;BYMONTH=11;BYDAY=1SU
END:STANDARD
END:VTIMEZONE
BEGIN:VEVENT
UID:1688216:Event:467788
DTSTAMP:20260421T212707Z
SUMMARY:Coffee Fest Las Vegas
DESCRIPTION:We are gearing up for our Las Vegas show in early June and
  hope to see you there. If you attended the Chicago show in mid-Februa
 ry, you took part in a show that exceeded all of our expectations. Alt
 hough, like most businesses, we aren’t breaking records, our booths 
 were filled and the trade floor was bustling. Our attendee and exhibit
 or surveys reported successful business transactions and reflected an 
 optimism in the specialty coffee industry that is not being reported i
 n mainstream media where doom and gloom reign.\n\nAs always, we push f
 orward and nudge our retailers to continue to reach for higher profits
  and solvent business models. To that end, we have done some bolsterin
 g to our educational program. We are happy to introduce the Executive 
 Summit one day prior to our Vegas show, on Thursday, June 11, 2009. Th
 e full-day program, entitled “Surviving and Thriving in Coffee Today
 ,” is designed to inspire and inform owners, executives and managers
  within the specialty coffee, tea and related industries. Please read 
 more about it by clicking \"Attend\" above, under \"Thursday Executive
  Summit\".\n\nIn addition, we are bulking up our gold standard educati
 onal program with one-day sessions of Coffee Retailer Ultimate Profita
 bility Seminar. Available each day of the show, the seminar culls the 
 best of specialty coffee industry professionals to help retailers hone
  in on what they need to do to make their profits soar regardless of t
 he economic climate. The cost of this session is $345. For more inform
 ation click \"Attend\" above, under \"Coffee Fest Las Vegas, click \"C
 lasses and Workshops\" and click \"Ultimate Profitability in Hard Time
 s for your Retail Coffee Operation\".\n\nFor more information visit ht
 tps://www.baristaexchange.com/events/coffee-fest-las-vegas
DTSTART;TZID=America/Los_Angeles:20090611T180000
DTEND;TZID=America/Los_Angeles:20090614T190000
CATEGORIES:coffee, trade, show, latte, art, competition
LOCATION:Las Vegas Convention Center
WEBSITE:http://www.coffeefest.com
URL:http://www.coffeefest.com
CONTACT:(425) 295-3300
ORGANIZER:Coffee Fest Tradeshows
ATTACH;FMTTYPE="image/jpeg":http://storage.ning.com/topology/rest/1.0/
 file/get/91907078?profile=original
ATTENDEE;ROLE=REQ-PARTICIPANT;PARTSTAT=ACCEPTED;RSVP=TRUE;CN="Jeff Voj
 ta":https://www.baristaexchange.com/profile/jeffvotja
ATTENDEE;ROLE=REQ-PARTICIPANT;PARTSTAT=ACCEPTED;RSVP=TRUE;CN="Leo Li":
 https://www.baristaexchange.com/profile/LeonLi
ATTENDEE;ROLE=REQ-PARTICIPANT;PARTSTAT=ACCEPTED;RSVP=TRUE;CN="Dave Bac
 on":https://www.baristaexchange.com/profile/DaveBacon
ATTENDEE;ROLE=REQ-PARTICIPANT;PARTSTAT=ACCEPTED;RSVP=TRUE;CN="Greenway
  Barista":https://www.baristaexchange.com/profile/BuehrerakaDonutDave
ATTENDEE;ROLE=REQ-PARTICIPANT;PARTSTAT=ACCEPTED;RSVP=TRUE;CN="Brandon 
 D":https://www.baristaexchange.com/profile/BrandonD
ATTENDEE;ROLE=REQ-PARTICIPANT;PARTSTAT=ACCEPTED;RSVP=TRUE;CN="Pablo Ca
 staneda":https://www.baristaexchange.com/profile/PabloCastaneda
ATTENDEE;ROLE=REQ-PARTICIPANT;PARTSTAT=ACCEPTED;RSVP=TRUE;CN="Scott Br
 uggman":https://www.baristaexchange.com/profile/ScottBruggman
ATTENDEE;ROLE=REQ-PARTICIPANT;PARTSTAT=ACCEPTED;RSVP=TRUE;CN=paulito:h
 ttps://www.baristaexchange.com/profile/paultio
ATTENDEE;ROLE=REQ-PARTICIPANT;PARTSTAT=ACCEPTED;RSVP=TRUE;CN="Matt Mil
 letto":https://www.baristaexchange.com/profile/mattmilletto
END:VEVENT
END:VCALENDAR
