BEGIN:VCALENDAR
PRODID:NingEventWidget-v1
VERSION:2.0
METHOD:PUBLISH
BEGIN:VTIMEZONE
TZID:America/Los_Angeles
X-LIC-LOCATION:America/Los_Angeles
BEGIN:DAYLIGHT
TZOFFSETFROM:-0800
TZOFFSETTO:-0700
TZNAME:PDT
DTSTART:19700308T020000
RRULE:FREQ=YEARLY;BYMONTH=3;BYDAY=2SU
END:DAYLIGHT
BEGIN:STANDARD
TZOFFSETFROM:-0700
TZOFFSETTO:-0800
TZNAME:PST
DTSTART:19701101T020000
RRULE:FREQ=YEARLY;BYMONTH=11;BYDAY=1SU
END:STANDARD
END:VTIMEZONE
BEGIN:VEVENT
UID:1688216:Event:679176
DTSTAMP:20260421T181220Z
SUMMARY:Coffee Fair
DESCRIPTION:2 day coffee fair with roaster demos and tastings at the W
 orld Forestry Center in Portland, Oregon (adjacent to the Portland Zoo
 ) I'm surprised the professional event posting isn't up here... here's
  a link to get you the skinny... http://www.worldforestry.org/news/7/2
 72/Coffee-Fair-Nov-7-8/d,World%20Forestry%20News%20Detail%20Template.h
 tml www.worldforestry.org\n\nFor more information visit https://www.ba
 ristaexchange.com/events/coffee-fair
DTSTART;TZID=America/Los_Angeles:20091107T100000
DTEND;TZID=America/Los_Angeles:20091108T150000
CATEGORIES:informational, "/", awareness
LOCATION:Washington Park, Portland Oregon, World Forestry Center
WEBSITE:http://worldforestry.org
URL:http://worldforestry.org
CONTACT:503-228-1367
ORGANIZER:Courtesy posting by BX member Johnbruce Haslett (JB)
ATTACH;FMTTYPE="image/jpeg":http://storage.ning.com/topology/rest/1.0/
 file/get/91913235?profile=original
ATTENDEE;ROLE=REQ-PARTICIPANT;PARTSTAT=ACCEPTED;RSVP=TRUE;CN="Johnbruc
 e Haslett (JB)":https://www.baristaexchange.com/profile/JohnbruceHasle
 ttJB
END:VEVENT
END:VCALENDAR
