BEGIN:VCALENDAR
PRODID:NingEventWidget-v1
VERSION:2.0
METHOD:PUBLISH
BEGIN:VTIMEZONE
TZID:America/Los_Angeles
X-LIC-LOCATION:America/Los_Angeles
BEGIN:DAYLIGHT
TZOFFSETFROM:-0800
TZOFFSETTO:-0700
TZNAME:PDT
DTSTART:19700308T020000
RRULE:FREQ=YEARLY;BYMONTH=3;BYDAY=2SU
END:DAYLIGHT
BEGIN:STANDARD
TZOFFSETFROM:-0700
TZOFFSETTO:-0800
TZNAME:PST
DTSTART:19701101T020000
RRULE:FREQ=YEARLY;BYMONTH=11;BYDAY=1SU
END:STANDARD
END:VTIMEZONE
BEGIN:VEVENT
UID:1688216:Event:525689
DTSTAMP:20260422T200131Z
SUMMARY:Coffee and Cacao Origins Tour in Mindo, Ecuador
DESCRIPTION:Ten day origins tour of both coffee and chocolate. We will
  visit a coffee nursery and plantation during harvest time and learn h
 ow to ferment and process coffee to the roast. We will also visit a ca
 cao plantation and ferment, dry and roast our own cacao. We will take 
 the cacao through to complete the chocolate through roasting, making c
 hocolate liquor, conching, tempering to making our own chocolate bars.
  Very complete tours of both chocolate and coffee in English. This dou
 ble origins tour will be held in Mindo, Ecuador, #1 for number of bird
  species in the world. Mindo is set in a beautiful protected cloud for
 est known for its waterfalls, orchids, butterflies and of course world
  class birding. I forgot to mention that we will be visiting a Cup of 
 Excellence winning coffee plantation.\n\nFor more information visit ht
 tps://www.baristaexchange.com/events/coffee-and-cacao-origins-tour
DTSTART;TZID=America/Los_Angeles:20090826T000000
DTEND;TZID=America/Los_Angeles:20090904T235900
CATEGORIES:double, origins, tour, in, mindo, ecuador
LOCATION:El Quetzal de Mindo Restaurant/Cafe in Mindo, Ecuador
WEBSITE:http://www.elquetzaldemindo.com
URL:http://www.elquetzaldemindo.com
CONTACT:086263805
ORGANIZER;CN="Barbara Wilson;":https://www.baristaexchange.com/profile
 /BarbaraWilson
ATTACH;FMTTYPE="image/jpeg":http://storage.ning.com/topology/rest/1.0/
 file/get/91908155?profile=original
ATTENDEE;ROLE=REQ-PARTICIPANT;PARTSTAT=ACCEPTED;RSVP=TRUE;CN="Barbara 
 Wilson;":https://www.baristaexchange.com/profile/BarbaraWilson
END:VEVENT
END:VCALENDAR
