BEGIN:VCALENDAR
PRODID:NingEventWidget-v1
VERSION:2.0
METHOD:PUBLISH
BEGIN:VTIMEZONE
TZID:America/Los_Angeles
X-LIC-LOCATION:America/Los_Angeles
BEGIN:DAYLIGHT
TZOFFSETFROM:-0800
TZOFFSETTO:-0700
TZNAME:PDT
DTSTART:19700308T020000
RRULE:FREQ=YEARLY;BYMONTH=3;BYDAY=2SU
END:DAYLIGHT
BEGIN:STANDARD
TZOFFSETFROM:-0700
TZOFFSETTO:-0800
TZNAME:PST
DTSTART:19701101T020000
RRULE:FREQ=YEARLY;BYMONTH=11;BYDAY=1SU
END:STANDARD
END:VTIMEZONE
BEGIN:VEVENT
UID:1688216:Event:565531
DTSTAMP:20260423T085307Z
SUMMARY:Cincinnati Regional Barista Jam
DESCRIPTION:Here is the chance for Cincinnati baristas to come togethe
 r and geek out. Regional baristas as well! There will be a couple of h
 ours to hang out and then 9 ish a latte art competition. Cook out, con
 versation, and then maybe a little bit of baristaing.\n\nFor more info
 rmation visit https://www.baristaexchange.com/events/cincinnati-region
 al-barista
DTSTART;TZID=America/Los_Angeles:20090912T180000
DTEND;TZID=America/Los_Angeles:20090912T230000
CATEGORIES:barista, jam, latte, art
LOCATION:Espresso Guild
WEBSITE:http://espressoguild.org
URL:http://espressoguild.org
CONTACT:614-361-1165
ORGANIZER;CN="Logan Demmy":https://www.baristaexchange.com/profile/Log
 anDemmy
ATTACH;FMTTYPE="image/jpeg":
ATTENDEE;ROLE=REQ-PARTICIPANT;PARTSTAT=ACCEPTED;RSVP=TRUE;CN="Adam Sha
 w":https://www.baristaexchange.com/profile/AdamShaw
ATTENDEE;ROLE=REQ-PARTICIPANT;PARTSTAT=ACCEPTED;RSVP=TRUE;CN="Collin J
 ames Docterman":https://www.baristaexchange.com/profile/CollinJamesDoc
 terman
ATTENDEE;ROLE=REQ-PARTICIPANT;PARTSTAT=ACCEPTED;RSVP=TRUE;CN="Logan De
 mmy":https://www.baristaexchange.com/profile/LoganDemmy
ATTENDEE;ROLE=REQ-PARTICIPANT;PARTSTAT=TENTATIVE;RSVP=TRUE;CN="Nathana
 el Everhart":https://www.baristaexchange.com/profile/NathanaelEverhart
END:VEVENT
END:VCALENDAR
