BEGIN:VCALENDAR
PRODID:NingEventWidget-v1
VERSION:2.0
METHOD:PUBLISH
BEGIN:VTIMEZONE
TZID:America/Los_Angeles
X-LIC-LOCATION:America/Los_Angeles
BEGIN:DAYLIGHT
TZOFFSETFROM:-0800
TZOFFSETTO:-0700
TZNAME:PDT
DTSTART:19700308T020000
RRULE:FREQ=YEARLY;BYMONTH=3;BYDAY=2SU
END:DAYLIGHT
BEGIN:STANDARD
TZOFFSETFROM:-0700
TZOFFSETTO:-0800
TZNAME:PST
DTSTART:19701101T020000
RRULE:FREQ=YEARLY;BYMONTH=11;BYDAY=1SU
END:STANDARD
END:VTIMEZONE
BEGIN:VEVENT
UID:1688216:Event:498259
DTSTAMP:20260422T024028Z
SUMMARY:Chicago Preliminaries for MKE Vs CHI throw down
DESCRIPTION:this is where we will select the 10 best Chi tow has to of
 fer to compete with the MKE! Still hashing out some details but I want
 ed to get the word out. Come rep peoples!\n\nFor more information visi
 t https://www.baristaexchange.com/events/chicago-preliminaries-for-mke
DTSTART;TZID=America/Los_Angeles:20090620T180000
DTEND;TZID=America/Los_Angeles:20090620T230000
CATEGORIES:latte, art, throw, down
LOCATION:Intelligentsia roasting works
WEBSITE:
URL:
CONTACT:
ORGANIZER;CN="michael Phillips":https://www.baristaexchange.com/profil
 e/michaelPhillips
ATTACH;FMTTYPE="image/jpeg":
ATTENDEE;ROLE=REQ-PARTICIPANT;PARTSTAT=ACCEPTED;RSVP=TRUE;CN="Zak Rye"
 :https://www.baristaexchange.com/profile/zak
ATTENDEE;ROLE=REQ-PARTICIPANT;PARTSTAT=ACCEPTED;RSVP=TRUE;CN=tif:https
 ://www.baristaexchange.com/profile/tif
ATTENDEE;ROLE=REQ-PARTICIPANT;PARTSTAT=ACCEPTED;RSVP=TRUE;CN="Matthew 
 Gasaway":https://www.baristaexchange.com/profile/MatthewGasaway
ATTENDEE;ROLE=REQ-PARTICIPANT;PARTSTAT=ACCEPTED;RSVP=TRUE;CN="Nathan L
 yle Black":https://www.baristaexchange.com/profile/NathanLyleBlack
ATTENDEE;ROLE=REQ-PARTICIPANT;PARTSTAT=ACCEPTED;RSVP=TRUE;CN="michael 
 Phillips":https://www.baristaexchange.com/profile/michaelPhillips
ATTENDEE;ROLE=REQ-PARTICIPANT;PARTSTAT=TENTATIVE;RSVP=TRUE;CN="Leo Li"
 :https://www.baristaexchange.com/profile/LeonLi
END:VEVENT
END:VCALENDAR
