BEGIN:VCALENDAR
PRODID:NingEventWidget-v1
VERSION:2.0
METHOD:PUBLISH
BEGIN:VTIMEZONE
TZID:America/Los_Angeles
X-LIC-LOCATION:America/Los_Angeles
BEGIN:DAYLIGHT
TZOFFSETFROM:-0800
TZOFFSETTO:-0700
TZNAME:PDT
DTSTART:19700308T020000
RRULE:FREQ=YEARLY;BYMONTH=3;BYDAY=2SU
END:DAYLIGHT
BEGIN:STANDARD
TZOFFSETFROM:-0700
TZOFFSETTO:-0800
TZNAME:PST
DTSTART:19701101T020000
RRULE:FREQ=YEARLY;BYMONTH=11;BYDAY=1SU
END:STANDARD
END:VTIMEZONE
BEGIN:VEVENT
UID:1688216:Event:855813
DTSTAMP:20260424T103902Z
SUMMARY:Cafe Imports Warehouse Party - Minneapolis Coffee Fest
DESCRIPTION:Free Tacos, Beer, Coffee and Live Music\n\nCome party with
  Cafe Imports Saturday June 5th 6-11pm after Coffee Fest at our wareho
 use in Saint Paul. Shuttle service from the convention center provided
  if needed.\n\nFor more information visit https://www.baristaexchange.
 com/events/cafe-imports-warehouse-party
DTSTART;TZID=America/Los_Angeles:20100605T180000
DTEND;TZID=America/Los_Angeles:20100605T230000
CATEGORIES:"party!"
LOCATION:Cafe Imports Warehouse
WEBSITE:http://maps.google.com/maps?f=q&source=s_q&hl=en&geocode=&q=ca
 fe+imports&sll=37.0625,-95.677068&sspn=48.106236,53.173828&ie=UTF8&hq=
 cafe+imports&hnear=&ll=44.990541,-93.212128&spn=0.337986,0.415421&z=11
 &iwloc=A
URL:http://maps.google.com/maps?f=q&source=s_q&hl=en&geocode=&q=cafe+i
 mports&sll=37.0625,-95.677068&sspn=48.106236,53.173828&ie=UTF8&hq=cafe
 +imports&hnear=&ll=44.990541,-93.212128&spn=0.337986,0.415421&z=11&iwl
 oc=A
CONTACT:6512096102
ORGANIZER;CN="Jamin Haddox":https://www.baristaexchange.com/profile/Ja
 minHaddox
ATTACH;FMTTYPE="image/jpeg":
ATTENDEE;ROLE=REQ-PARTICIPANT;PARTSTAT=ACCEPTED;RSVP=TRUE;CN="William 
 Fendler":https://www.baristaexchange.com/profile/WilliamFendler
ATTENDEE;ROLE=REQ-PARTICIPANT;PARTSTAT=ACCEPTED;RSVP=TRUE;CN=tif:https
 ://www.baristaexchange.com/profile/tif
ATTENDEE;ROLE=REQ-PARTICIPANT;PARTSTAT=ACCEPTED;RSVP=TRUE;CN="Jamin Ha
 ddox":https://www.baristaexchange.com/profile/JaminHaddox
ATTENDEE;ROLE=REQ-PARTICIPANT;PARTSTAT=TENTATIVE;RSVP=TRUE;CN="Heather
  Holly Haller":https://www.baristaexchange.com/profile/Heather
ATTENDEE;ROLE=REQ-PARTICIPANT;PARTSTAT=TENTATIVE;RSVP=TRUE;CN="Richard
  Penney":https://www.baristaexchange.com/profile/RichardPenney
END:VEVENT
END:VCALENDAR
