BEGIN:VCALENDAR
PRODID:NingEventWidget-v1
VERSION:2.0
METHOD:PUBLISH
BEGIN:VTIMEZONE
TZID:America/Los_Angeles
X-LIC-LOCATION:America/Los_Angeles
BEGIN:DAYLIGHT
TZOFFSETFROM:-0800
TZOFFSETTO:-0700
TZNAME:PDT
DTSTART:19700308T020000
RRULE:FREQ=YEARLY;BYMONTH=3;BYDAY=2SU
END:DAYLIGHT
BEGIN:STANDARD
TZOFFSETFROM:-0700
TZOFFSETTO:-0800
TZNAME:PST
DTSTART:19701101T020000
RRULE:FREQ=YEARLY;BYMONTH=11;BYDAY=1SU
END:STANDARD
END:VTIMEZONE
BEGIN:VEVENT
UID:1688216:Event:435003
DTSTAMP:20260421T063342Z
SUMMARY:Cafe Biz 09
DESCRIPTION:Café Biz is the prestigious annual industry expo targetin
 g café owners and their staff and people looking at entering this exc
 iting industry. Café Biz will be held again this year at Royal Randwi
 ck Racecourse in the Randwick Pavilion. Randwick is a great location w
 ith plenty of free parking making easy access to an event close to the
  city.\n\nCafe Biz 09 is looking to be another action packed event tha
 t will show a positive light on the growing industry even in these pre
 dicted quiet economic times. The mood for all involved has been far fr
 om doom and gloom, as the Australian café and coffee industry is show
 ing strong growth figures as consumers switch to the casual café life
 style to be entertained. This is a real positive and Café Biz is gett
 ing behind the industry again with Café Biz 09 being innovative with 
 the expo format.\n\nThis years Café Biz 09 will be a good reflection 
 of where the industry is heading with lots of new products and service
 s on display in the Randwick Pavilion on the 3rd and 4th of May. Café
  Biz has been the starting point for many Café owners who have attend
 ed the event over the last seven years to educate and motivate themsel
 ves and their staff.\n\nThere will be a terrific line up of free works
 hops in all areas of the café business to help the café owner make m
 ore profit out of these complex businesses. This year may be a tough o
 ne for some so it’s the perfect time to start working on your busine
 ss. Café Biz organizers KISS Marketing have brought in many industry 
 experts who will be looking at subjects like marketing, finance and co
 st controls workshops.\n\nThe coffee side of Café Biz is also well re
 presented with world class barista Champions such as world number two 
 David Makin who will be conducting a Barista Course for those who want
  to be the best in their craft. We also have the pleasure of the prese
 nce of coffee educator Jill Adams from the William Angliss Coffee Scho
 ol in Melbourne who will be conducting a coffee sensory course.\n\nCaf
 é Biz will again host some of the industries most prestigious coffee 
 and beverage competitions such as the Da Vinci Trans Tasman Barista Ch
 ampionships which consists of a competition between Australia’s best
  barista’s up against the finest from New Zealand. Another fun event
  is the Pura Latte Art competition which will bring out the best latte
  artists in the nation who are all competing for the two thousand doll
 ar prize pool. This competition has been the proving place for all thr
 ee Australian bred World Latte Art Champions. This years Coffee Chain 
 Challenge will be staged in the Café Biz arena hosting teams from all
  of the large coffee chains around Australia. The coffee chain is an e
 vent that puts into play a typical busy café scenario where teams of 
 baristas need to work together to produce consistent coffee, judged on
  taste and presentation.\n\nOther beverage competitions that will be h
 osted at this years Café Biz are the Tea Infusion Challenge and the C
 afé Cocktail Competition. These new events are starting to create int
 erest for a new age of competitors raising the profile of these profit
 able café revenue areas.\n\nThis year there is over 100 new products 
 and services on display including a home coffee machine area which has
  been set up for the launch of KISS Marketing’s new release of The H
 ome Coffee Machine Review.\n\nAll of the event highlights and sponsor 
 info can be viewed at the Café Biz website. www.cafebiz.net\n\nAny ca
 fé supplier who thought they might have missed the opportunity to dis
 play their wares at this once a year event may still be able to get in
 volved and should contact Sue at sue@cafebiz.net\n\nWe look forward to
  personally meeting you this year.\n\nPlease don’t miss out on getti
 ng your free admission online at the café Biz website. www.cafebiz.ne
 t\n\nSean Edwards\n\nManaging Director\nKISS Marketing\nCafé Biz – 
 Café Culture Magazine\n\nFor more information visit https://www.baris
 taexchange.com/events/cafe-biz-09
DTSTART;TZID=America/Los_Angeles:20090503T000000
DTEND;TZID=America/Los_Angeles:20090504T235900
CATEGORIES:cafe, industry, expo
LOCATION:Randwick Race Course Sydney NSW Australia
WEBSITE:http://www.cafebiz.net
URL:http://www.cafebiz.net
CONTACT:02 6583 7163
ORGANIZER;CN="Sean David Edwards":https://www.baristaexchange.com/prof
 ile/SeanDavidEdwards
ATTACH;FMTTYPE="image/jpeg":http://storage.ning.com/topology/rest/1.0/
 file/get/91906628?profile=original
ATTENDEE;ROLE=REQ-PARTICIPANT;PARTSTAT=ACCEPTED;RSVP=TRUE;CN="Sean Dav
 id Edwards":https://www.baristaexchange.com/profile/SeanDavidEdwards
ATTENDEE;ROLE=REQ-PARTICIPANT;PARTSTAT=TENTATIVE;RSVP=TRUE;CN="sam cor
 ra":https://www.baristaexchange.com/profile/samcorra
END:VEVENT
END:VCALENDAR
