BEGIN:VCALENDAR
PRODID:NingEventWidget-v1
VERSION:2.0
METHOD:PUBLISH
BEGIN:VTIMEZONE
TZID:America/Los_Angeles
X-LIC-LOCATION:America/Los_Angeles
BEGIN:DAYLIGHT
TZOFFSETFROM:-0800
TZOFFSETTO:-0700
TZNAME:PDT
DTSTART:19700308T020000
RRULE:FREQ=YEARLY;BYMONTH=3;BYDAY=2SU
END:DAYLIGHT
BEGIN:STANDARD
TZOFFSETFROM:-0700
TZOFFSETTO:-0800
TZNAME:PST
DTSTART:19701101T020000
RRULE:FREQ=YEARLY;BYMONTH=11;BYDAY=1SU
END:STANDARD
END:VTIMEZONE
BEGIN:VEVENT
UID:1688216:Event:572335
DTSTAMP:20260424T031821Z
SUMMARY:Café Au Lait® OPENS ITS DOORS
DESCRIPTION:¡Noe Castro Cacao visits El Salvador, Central America!\n\
 nNoe Castro Cacao, International Barista professional, with more than 
 8 years experience, came to El Salvador and trained Zegsa Inversiones 
 S.A. de C.V.'s personnel.\n\nLa Libertad, El Salvador, Central America
 , Friday 31st of July 2009 – Zegsa Inversiones S.A. de C.V. is prepa
 ring to open the doors of its new Coffee Shop in El Salvador, Central 
 America. “ We’ve put a lot of effort into this project and have de
 cided to open in September 09. We’ve been training almost 8 to 10 ho
 urs daily for 4 months now. Our main objective is to serve our clients
  the best cup of coffee they’ve ever tasted, without having to rely 
 on only one Barista serving it,” confirmed Mr. Jonathan Rodríguez, 
 President of Zegsa Inversiones S.A. de C.V.\n\nNoe Castro Cacao, prest
 igious Barista with more than eight years experience, known worldwide 
 for his numerous jobs and almost 5 years experience in national and in
 ternational competitions, was invited over by Zegsa Inversiones S.A. d
 e C.V. to El Salvador, Central America. During the week of July 27th 0
 9, for three exhausting and consecutive days, Noe trained the Baristas
  for opening day. “We had the honor of meeting Noe on a business tri
 p in his natal country, and for the first time we are pleased to have 
 him visit El Salvador,” says Mr. Rodríguez.\n\n“Barista Coach” 
 nicknamed by Zegsa’s personnel won the 2006 Barista Championship of 
 Guatemala and had the amazing experience of representing his country f
 or the World Barista Championship held that same year in Tokyo, Japan.
  He had to compete with almost 45 Baristas from different nations! In 
 2007, during national competition, he won the “Best Espresso”.\n\n
 During the intense Barista training of four days, Noe shared all of hi
 s experiences, motivations and knowledge, of more than 8 years fully i
 nto and passionate about this industry. “Noe is an authentic profess
 ional, we wanted to discover our potential and it was him who woke it 
 up out of each and every one of us, we are glad he could join us and a
 re thankful for everything he’s done.”\n\nWhat motivated Zegsa Inv
 ersiones S.A. de C.V. to invite Noe to El Salvador was the need to rea
 ch their main objective. “ With Noe’s help, we reached our goal!
  said Mr. Rodríguez.\n\nThe name of the new coffee Shop is a surpric
 e to be revealed later and over the Internet in Facebook or Barista Ex
 change. However, Mr. Rodriguez did tell us, it would be located on the
  secondfloor of Centro Comercial Plaza Merliot, (Plaza Merliot Mall) a
 t La Libertad, El Salvador.\n\nMr. Rodriguez did not forget to mention
 , “It has taken us more than 8 months of trainings, searching for th
 e right information, being patient and preparing the right way to reac
 h the level we are at right now, we're making sure to be different. We
  will always support El Salvador’s Coffee and its going to be our on
 ly ingredient, for any coffee beverage our Baristas prepare our client
 s.”\n\nTo be one of the first to find out the latest Coffee News, pu
 blications and be able to meet the Salvadoran Baristas who will work i
 n Zegsa’s New Coffee Shop, or if you want to know more about what ha
 ppened during training with Noe Castro, look for them in Facebook or B
 arista Exchange as Barista-Pro and add them as friends.\n\nZegsa Inver
 siones S.A. de C.V., formally invites everyone to await our news of th
 e upcoming events for opening day; 100% made in El Salvador.\n\nFor mo
 re information visit https://www.baristaexchange.com/events/cafe-au-la
 itr-opens-its-doors
DTSTART;TZID=America/Los_Angeles:20090925T000000
DTEND;TZID=America/Los_Angeles:20090925T235900
CATEGORIES:coffee, shop, opens, its, doors
LOCATION:La Libertad, El Salvador, Central America
WEBSITE:
URL:
CONTACT:(503) 2278-4061
ORGANIZER;CN="Jonathan Rodriguez":https://www.baristaexchange.com/prof
 ile/JohannadeRodriguez
ATTACH;FMTTYPE="image/jpeg":http://storage.ning.com/topology/rest/1.0/
 file/get/91909364?profile=original
ATTENDEE;ROLE=REQ-PARTICIPANT;PARTSTAT=ACCEPTED;RSVP=TRUE;CN="Jonathan
  Rodriguez":https://www.baristaexchange.com/profile/JohannadeRodriguez
END:VEVENT
END:VCALENDAR
