BEGIN:VCALENDAR
PRODID:NingEventWidget-v1
VERSION:2.0
METHOD:PUBLISH
BEGIN:VTIMEZONE
TZID:America/Los_Angeles
X-LIC-LOCATION:America/Los_Angeles
BEGIN:DAYLIGHT
TZOFFSETFROM:-0800
TZOFFSETTO:-0700
TZNAME:PDT
DTSTART:19700308T020000
RRULE:FREQ=YEARLY;BYMONTH=3;BYDAY=2SU
END:DAYLIGHT
BEGIN:STANDARD
TZOFFSETFROM:-0700
TZOFFSETTO:-0800
TZNAME:PST
DTSTART:19701101T020000
RRULE:FREQ=YEARLY;BYMONTH=11;BYDAY=1SU
END:STANDARD
END:VTIMEZONE
BEGIN:VEVENT
UID:1688216:Event:846414
DTSTAMP:20260424T152258Z
SUMMARY:Buffalo's First Barista Jam
DESCRIPTION:Coffee cupping @ 5pm!\nLatte throwdown @ 6pm! $5 to enter,
  open to all, winner takes the pot.\nJazz act \"Shameflute\" takes the
  stage @ 8pm!\nThis is the first (hopefully of many) coffee jam in Buf
 falo, we invite all baristas, roasters, coffee shop owners and coffee 
 lovers to come and hang for a bit!\n\nFor more information visit https
 ://www.baristaexchange.com/events/buffalos-first-barista-jam
DTSTART;TZID=America/Los_Angeles:20100520T170000
DTEND;TZID=America/Los_Angeles:20100520T200000
CATEGORIES:barista, "jam/latte", throwdown
LOCATION:Spot Coffee Elmwood
WEBSITE:
URL:
CONTACT:716-332-4564
ORGANIZER;CN="Jacob Casella":https://www.baristaexchange.com/profile/J
 acobCasella
ATTACH;FMTTYPE="image/jpeg":http://storage.ning.com/topology/rest/1.0/
 file/get/91917543?profile=original
ATTENDEE;ROLE=REQ-PARTICIPANT;PARTSTAT=ACCEPTED;RSVP=TRUE;CN="Jacob Ca
 sella":https://www.baristaexchange.com/profile/JacobCasella
END:VEVENT
END:VCALENDAR
