BEGIN:VCALENDAR
PRODID:NingEventWidget-v1
VERSION:2.0
METHOD:PUBLISH
BEGIN:VTIMEZONE
TZID:America/Los_Angeles
X-LIC-LOCATION:America/Los_Angeles
BEGIN:DAYLIGHT
TZOFFSETFROM:-0800
TZOFFSETTO:-0700
TZNAME:PDT
DTSTART:19700308T020000
RRULE:FREQ=YEARLY;BYMONTH=3;BYDAY=2SU
END:DAYLIGHT
BEGIN:STANDARD
TZOFFSETFROM:-0700
TZOFFSETTO:-0800
TZNAME:PST
DTSTART:19701101T020000
RRULE:FREQ=YEARLY;BYMONTH=11;BYDAY=1SU
END:STANDARD
END:VTIMEZONE
BEGIN:VEVENT
UID:1688216:Event:464444
DTSTAMP:20260421T031711Z
SUMMARY:Bloom Coffee and Tea Cuppings
DESCRIPTION:Weekly Cuppings, Every Wednesday @ 7:00pm.\nOpen to Everyo
 ne. Feel free to bring coffee.\n\nWell also be doing some pairings and
  blind cuppings.\n\nCheck it out!\n\nFor more information visit https:
 //www.baristaexchange.com/events/bloom-coffee-and-tea-cuppings
DTSTART;TZID=America/Los_Angeles:20090513T190000
DTEND;TZID=America/Los_Angeles:20111109T200000
CATEGORIES:cupping
LOCATION:Bloom Coffee and Tea
WEBSITE:http://www.bloomcoffee.com
URL:http://www.bloomcoffee.com
CONTACT:916-773-2332
ORGANIZER;CN="Jake Elia":https://www.baristaexchange.com/profile/JakeE
 lia
ATTACH;FMTTYPE="image/jpeg":
ATTENDEE;ROLE=REQ-PARTICIPANT;PARTSTAT=ACCEPTED;RSVP=TRUE;CN="Joseph P
 laugher":https://www.baristaexchange.com/profile/JosephPlaugher
ATTENDEE;ROLE=REQ-PARTICIPANT;PARTSTAT=ACCEPTED;RSVP=TRUE;CN="Jake Eli
 a":https://www.baristaexchange.com/profile/JakeElia
ATTENDEE;ROLE=REQ-PARTICIPANT;PARTSTAT=TENTATIVE;RSVP=TRUE;CN="Jen Rob
 berts":https://www.baristaexchange.com/profile/MarkJones
ATTENDEE;ROLE=REQ-PARTICIPANT;PARTSTAT=TENTATIVE;RSVP=TRUE;CN="Brian C
 ornelsen":https://www.baristaexchange.com/profile/BrianCornelsen
END:VEVENT
END:VCALENDAR
