BEGIN:VCALENDAR
PRODID:NingEventWidget-v1
VERSION:2.0
METHOD:PUBLISH
BEGIN:VTIMEZONE
TZID:America/Los_Angeles
X-LIC-LOCATION:America/Los_Angeles
BEGIN:DAYLIGHT
TZOFFSETFROM:-0800
TZOFFSETTO:-0700
TZNAME:PDT
DTSTART:19700308T020000
RRULE:FREQ=YEARLY;BYMONTH=3;BYDAY=2SU
END:DAYLIGHT
BEGIN:STANDARD
TZOFFSETFROM:-0700
TZOFFSETTO:-0800
TZNAME:PST
DTSTART:19701101T020000
RRULE:FREQ=YEARLY;BYMONTH=11;BYDAY=1SU
END:STANDARD
END:VTIMEZONE
BEGIN:VEVENT
UID:1688216:Event:327977
DTSTAMP:20260422T221413Z
SUMMARY:'Black Gold' day 2!
DESCRIPTION:barista talks and latte art games, cupping, showing of mov
 ie black gold...\n\nFor more information visit https://www.baristaexch
 ange.com/events/black-gold-day-2
DTSTART;TZID=America/Los_Angeles:20090221T183000
DTEND;TZID=America/Los_Angeles:20090221T200000
CATEGORIES:fundraising
LOCATION:eliscaffe
WEBSITE:http://www.eliscaffe.com
URL:http://www.eliscaffe.com
CONTACT:
ORGANIZER;CN="nik orosi":https://www.baristaexchange.com/profile/nikor
 osi
ATTACH;FMTTYPE="image/jpeg":http://storage.ning.com/topology/rest/1.0/
 file/get/91905203?profile=original
ATTENDEE;ROLE=REQ-PARTICIPANT;PARTSTAT=ACCEPTED;RSVP=TRUE;CN="nik oros
 i":https://www.baristaexchange.com/profile/nikorosi
END:VEVENT
END:VCALENDAR
