BEGIN:VCALENDAR
PRODID:NingEventWidget-v1
VERSION:2.0
METHOD:PUBLISH
BEGIN:VTIMEZONE
TZID:America/Los_Angeles
X-LIC-LOCATION:America/Los_Angeles
BEGIN:DAYLIGHT
TZOFFSETFROM:-0800
TZOFFSETTO:-0700
TZNAME:PDT
DTSTART:19700308T020000
RRULE:FREQ=YEARLY;BYMONTH=3;BYDAY=2SU
END:DAYLIGHT
BEGIN:STANDARD
TZOFFSETFROM:-0700
TZOFFSETTO:-0800
TZNAME:PST
DTSTART:19701101T020000
RRULE:FREQ=YEARLY;BYMONTH=11;BYDAY=1SU
END:STANDARD
END:VTIMEZONE
BEGIN:VEVENT
UID:1688216:Event:902610
DTSTAMP:20260423T051234Z
SUMMARY:BGA Camp-Pull-A-Shot
DESCRIPTION:\nThe first annual BGA Camp-Pull-A-Shot is only a few mont
 hs away! What are you waiting for? Registration is now open, so don't 
 miss out on your chance to get level 1 & 2 certified all in 2 and a ha
 lf days!\n\nThe Details:\n$550.00 for BGA members\n$750.00 for non-BGA
  members\nBGA membership is only $45 dollars....save yourself 200 buck
 s by joining!\nIncludes the following:\n-Lodging (quad occupancy)\n-Al
 l meals (not alcohol-sorry it's B(uy)YOB)\n-Roundtrip Airport Transfer
  from LAX only\n-All courses offered -yes ALL COURSES offered!\n\nFun 
 Stuff:\n-Barista World Cup Team Competitions\n-Jam Time with Instructo
 rs\n-Social time...need we say more?\n\nGet Seriously Certified:\n-Exp
 loring Manual Brewing Methods and Extraction\n-Entering the World of B
 arista Competitions\n-Beyond the Beverage‐ Exploring the role of the
  Barista as a true service professional\n-BGA Level 1 and Level 2 Cert
 ification Tests\n-CP 101, 102, 151, 202, 203, 204\n-RP 206\n-GE 103\n\
 nREGISTER NOW!!\n\n\nFor more information visit https://www.baristaexc
 hange.com/events/bga-camppullashot
DTSTART;TZID=America/Los_Angeles:20101018T000000
DTEND;TZID=America/Los_Angeles:20101021T235900
CATEGORIES:barista, retreat
LOCATION:El Capitan Canyon
WEBSITE:https://www.netforumondemand.com/eweb/DynamicPage.aspx?Site=sc
 aa10&WebCode=EventDetail&evt_key=c253ae46-5e60-4c26-a4f1-cf076757d1db
URL:https://www.netforumondemand.com/eweb/DynamicPage.aspx?Site=scaa10
 &WebCode=EventDetail&evt_key=c253ae46-5e60-4c26-a4f1-cf076757d1db
CONTACT:
ORGANIZER:Barista Guild of America
ATTACH;FMTTYPE="image/jpeg":http://storage.ning.com/topology/rest/1.0/
 file/get/91919167?profile=original
ATTENDEE;ROLE=REQ-PARTICIPANT;PARTSTAT=ACCEPTED;RSVP=TRUE;CN="Dylan St
 earns":https://www.baristaexchange.com/profile/DylanStearns
ATTENDEE;ROLE=REQ-PARTICIPANT;PARTSTAT=ACCEPTED;RSVP=TRUE;CN="Brandon 
 D":https://www.baristaexchange.com/profile/BrandonD
ATTENDEE;ROLE=REQ-PARTICIPANT;PARTSTAT=ACCEPTED;RSVP=TRUE;CN="Jason Do
 miny":https://www.baristaexchange.com/profile/jdominy
ATTENDEE;ROLE=REQ-PARTICIPANT;PARTSTAT=ACCEPTED;RSVP=TRUE;CN=Trevor:ht
 tps://www.baristaexchange.com/profile/Trevor
ATTENDEE;ROLE=REQ-PARTICIPANT;PARTSTAT=ACCEPTED;RSVP=TRUE;CN="Marcus B
 oni":https://www.baristaexchange.com/profile/MarcusBoni
ATTENDEE;ROLE=REQ-PARTICIPANT;PARTSTAT=ACCEPTED;RSVP=TRUE;CN=rothko:ht
 tps://www.baristaexchange.com/profile/rothko
ATTENDEE;ROLE=REQ-PARTICIPANT;PARTSTAT=ACCEPTED;RSVP=TRUE;CN="Lorenzo 
 Perkins":https://www.baristaexchange.com/profile/Lorenzo
ATTENDEE;ROLE=REQ-PARTICIPANT;PARTSTAT=ACCEPTED;RSVP=TRUE;CN="Tara She
 nson":https://www.baristaexchange.com/profile/TaraShenson
ATTENDEE;ROLE=REQ-PARTICIPANT;PARTSTAT=TENTATIVE;RSVP=TRUE;CN="Matt Mi
 lletto":https://www.baristaexchange.com/profile/mattmilletto
END:VEVENT
END:VCALENDAR
