BEGIN:VCALENDAR
PRODID:NingEventWidget-v1
VERSION:2.0
METHOD:PUBLISH
BEGIN:VTIMEZONE
TZID:America/Los_Angeles
X-LIC-LOCATION:America/Los_Angeles
BEGIN:DAYLIGHT
TZOFFSETFROM:-0800
TZOFFSETTO:-0700
TZNAME:PDT
DTSTART:19700308T020000
RRULE:FREQ=YEARLY;BYMONTH=3;BYDAY=2SU
END:DAYLIGHT
BEGIN:STANDARD
TZOFFSETFROM:-0700
TZOFFSETTO:-0800
TZNAME:PST
DTSTART:19701101T020000
RRULE:FREQ=YEARLY;BYMONTH=11;BYDAY=1SU
END:STANDARD
END:VTIMEZONE
BEGIN:VEVENT
UID:1688216:Event:665963
DTSTAMP:20260421T131518Z
SUMMARY:BGA Bike Tour and Kick-off Party at MWRBC
DESCRIPTION:Join the Barista Guild for a brisk bike ride through St. L
 ouis' historic Forest Park. We'll stop at some of the best cafés in t
 own for free coffee and finish at Velocity Café where we'll be joined
  by anyone with a love for coffee at the Barista Guild's MWRBC welcome
  party - food + beer + barista throwdown. Don't miss out!\n\nFor more 
 information visit https://www.baristaexchange.com/events/bga-bike-tour
 -and-kickoff
DTSTART;TZID=America/Los_Angeles:20091029T163000
DTEND;TZID=America/Los_Angeles:20091029T220000
CATEGORIES:party, bike, ride
LOCATION:Velocity Café & Cyclery
WEBSITE:http://www.velocitycafeandcyclery.com
URL:http://www.velocitycafeandcyclery.com
CONTACT:314.877.9119
ORGANIZER;CN="Mike Marquard":https://www.baristaexchange.com/profile/M
 ikeMarquard
ATTACH;FMTTYPE="image/jpeg":http://storage.ning.com/topology/rest/1.0/
 file/get/91912908?profile=original
ATTENDEE;ROLE=REQ-PARTICIPANT;PARTSTAT=ACCEPTED;RSVP=TRUE;CN="Caitlin 
 Corcoran":https://www.baristaexchange.com/profile/CaitlinCorcoran
ATTENDEE;ROLE=REQ-PARTICIPANT;PARTSTAT=ACCEPTED;RSVP=TRUE;CN="Mike Mar
 quard":https://www.baristaexchange.com/profile/MikeMarquard
END:VEVENT
END:VCALENDAR
