BEGIN:VCALENDAR
PRODID:NingEventWidget-v1
VERSION:2.0
METHOD:PUBLISH
BEGIN:VTIMEZONE
TZID:America/Los_Angeles
X-LIC-LOCATION:America/Los_Angeles
BEGIN:DAYLIGHT
TZOFFSETFROM:-0800
TZOFFSETTO:-0700
TZNAME:PDT
DTSTART:19700308T020000
RRULE:FREQ=YEARLY;BYMONTH=3;BYDAY=2SU
END:DAYLIGHT
BEGIN:STANDARD
TZOFFSETFROM:-0700
TZOFFSETTO:-0800
TZNAME:PST
DTSTART:19701101T020000
RRULE:FREQ=YEARLY;BYMONTH=11;BYDAY=1SU
END:STANDARD
END:VTIMEZONE
BEGIN:VEVENT
UID:1688216:Event:600344
DTSTAMP:20260422T163000Z
SUMMARY:BGA Barista Jam
DESCRIPTION:The BGA and Visions bring you a coffee and espresso worksh
 op at the new Visions Coffe Enhancement Lounge. Saturday August 29. 35
 $ for all 4 classes and lunch.\n\nFor more information visit https://w
 ww.baristaexchange.com/events/bga-barista-jam
DTSTART;TZID=America/Los_Angeles:20090823T080000
DTEND;TZID=America/Los_Angeles:20090823T170000
CATEGORIES:jam
LOCATION:Visions Coffee Enhancement Lounge
WEBSITE:http://www.visionsespresso.com
URL:http://www.visionsespresso.com
CONTACT:
ORGANIZER;CN=Cam:https://www.baristaexchange.com/profile/Cam
ATTACH;FMTTYPE="image/jpeg":http://storage.ning.com/topology/rest/1.0/
 file/get/91910013?profile=original
ATTENDEE;ROLE=REQ-PARTICIPANT;PARTSTAT=ACCEPTED;RSVP=TRUE;CN="Mark Pfa
 ff":https://www.baristaexchange.com/profile/MarkPfaff
ATTENDEE;ROLE=REQ-PARTICIPANT;PARTSTAT=ACCEPTED;RSVP=TRUE;CN="Sarah Al
 len":https://www.baristaexchange.com/profile/SarahAllen
ATTENDEE;ROLE=REQ-PARTICIPANT;PARTSTAT=ACCEPTED;RSVP=TRUE;CN=Cam:https
 ://www.baristaexchange.com/profile/Cam
END:VEVENT
END:VCALENDAR
