BEGIN:VCALENDAR
PRODID:NingEventWidget-v1
VERSION:2.0
METHOD:PUBLISH
BEGIN:VTIMEZONE
TZID:America/Los_Angeles
X-LIC-LOCATION:America/Los_Angeles
BEGIN:DAYLIGHT
TZOFFSETFROM:-0800
TZOFFSETTO:-0700
TZNAME:PDT
DTSTART:19700308T020000
RRULE:FREQ=YEARLY;BYMONTH=3;BYDAY=2SU
END:DAYLIGHT
BEGIN:STANDARD
TZOFFSETFROM:-0700
TZOFFSETTO:-0800
TZNAME:PST
DTSTART:19701101T020000
RRULE:FREQ=YEARLY;BYMONTH=11;BYDAY=1SU
END:STANDARD
END:VTIMEZONE
BEGIN:VEVENT
UID:1688216:Event:630964
DTSTAMP:20260424T012231Z
SUMMARY:Be sure to stop by!
DESCRIPTION:Hello Friends!\n\nWe are busily preparing for a great show
  at Coffee Fest Seattle 2009 and looking forward to seeing each of you
  this weekend!\n\nPlease make sure to stop by:\n\nGhirardelli Chocolat
 e, booth #904-#906, and taste our exciting new Ghirardelli Sweet Groun
 d Peppermint Cocoa for the holidays!\n\nThird Street Chai Group/Pixie 
 Mate/Boulder Organic Lemonade, booth #1023, and try their fantastic li
 ne up of all organic beverages!\n\nSmoothie Essentials/Matcha Green Te
 a, booth #319, and taste some delicious blended and hot ideas for the 
 functional beverage category of your menu!\n\nUnited Brands/ Whip Its!
 /Miam.Miam, booth #312, and see their fun and exiting new ideas for yo
 ur retail section!\n\nYou will be surprised and delighted by all of ou
 r new offerings for this Fall!\n\nPlease let us know if we can facilit
 ate your visit in any way by setting up private meetings or planning a
  time to walk the floor with you.\n\nSee you then!\n\nFor more informa
 tion visit https://www.baristaexchange.com/events/be-sure-to-stop-by
DTSTART;TZID=America/Los_Angeles:20090925T120000
DTEND;TZID=America/Los_Angeles:20090927T160000
CATEGORIES:newfall, items, at, coffee, "fest!"
LOCATION:Coffee Fest Seattle
WEBSITE:
URL:
CONTACT:
ORGANIZER;CN="Ginger Gerhart":https://www.baristaexchange.com/profile/
 GingerGerhart
ATTACH;FMTTYPE="image/jpeg":
ATTENDEE;ROLE=REQ-PARTICIPANT;PARTSTAT=ACCEPTED;RSVP=TRUE;CN="Ginger G
 erhart":https://www.baristaexchange.com/profile/GingerGerhart
END:VEVENT
END:VCALENDAR
