BEGIN:VCALENDAR
PRODID:NingEventWidget-v1
VERSION:2.0
METHOD:PUBLISH
BEGIN:VTIMEZONE
TZID:America/Los_Angeles
X-LIC-LOCATION:America/Los_Angeles
BEGIN:DAYLIGHT
TZOFFSETFROM:-0800
TZOFFSETTO:-0700
TZNAME:PDT
DTSTART:19700308T020000
RRULE:FREQ=YEARLY;BYMONTH=3;BYDAY=2SU
END:DAYLIGHT
BEGIN:STANDARD
TZOFFSETFROM:-0700
TZOFFSETTO:-0800
TZNAME:PST
DTSTART:19701101T020000
RRULE:FREQ=YEARLY;BYMONTH=11;BYDAY=1SU
END:STANDARD
END:VTIMEZONE
BEGIN:VEVENT
UID:1688216:Event:882693
DTSTAMP:20260425T132657Z
SUMMARY:Battle of Barista Competition
DESCRIPTION:This is the first barista competition in Penang !\n\nFor m
 ore information visit https://www.baristaexchange.com/events/battle-of
 -barista-competition
DTSTART;TZID=America/Los_Angeles:20100725T120000
DTEND;TZID=America/Los_Angeles:20100725T180000
CATEGORIES:barista, competition
LOCATION:Gurney Plaza main entrance
WEBSITE:
URL:
CONTACT:
ORGANIZER:Gurney Plaza
ATTACH;FMTTYPE="image/jpeg":http://storage.ning.com/topology/rest/1.0/
 file/get/91918721?profile=original
ATTENDEE;ROLE=REQ-PARTICIPANT;PARTSTAT=ACCEPTED;RSVP=TRUE;CN=Ighart:ht
 tps://www.baristaexchange.com/profile/davidleongww
ATTENDEE;ROLE=REQ-PARTICIPANT;PARTSTAT=ACCEPTED;RSVP=TRUE;CN=boyd:http
 s://www.baristaexchange.com/profile/boyd
ATTENDEE;ROLE=REQ-PARTICIPANT;PARTSTAT=ACCEPTED;RSVP=TRUE;CN=Victor:ht
 tps://www.baristaexchange.com/profile/Victor
ATTENDEE;ROLE=REQ-PARTICIPANT;PARTSTAT=TENTATIVE;RSVP=TRUE;CN="Loo Che
 e Wei":https://www.baristaexchange.com/profile/LooCheeWei
END:VEVENT
END:VCALENDAR
