BEGIN:VCALENDAR
PRODID:NingEventWidget-v1
VERSION:2.0
METHOD:PUBLISH
BEGIN:VTIMEZONE
TZID:America/Los_Angeles
X-LIC-LOCATION:America/Los_Angeles
BEGIN:DAYLIGHT
TZOFFSETFROM:-0800
TZOFFSETTO:-0700
TZNAME:PDT
DTSTART:19700308T020000
RRULE:FREQ=YEARLY;BYMONTH=3;BYDAY=2SU
END:DAYLIGHT
BEGIN:STANDARD
TZOFFSETFROM:-0700
TZOFFSETTO:-0800
TZNAME:PST
DTSTART:19701101T020000
RRULE:FREQ=YEARLY;BYMONTH=11;BYDAY=1SU
END:STANDARD
END:VTIMEZONE
BEGIN:VEVENT
UID:1688216:Event:408330
DTSTAMP:20260422T011743Z
SUMMARY:Barista Jam@Taste Coffee House (Boston)
DESCRIPTION:The 1st Barista Jam in Taste history will be held on Frida
 y, April 3rd from 5-8pm. I'll be inviting all of the notable coffee sh
 ops (distributing invitations this Friday) i.e., Hi Rise, Cafe Fixe, S
 imon's, Bloc 11, Diesel, 1369, Cafe Crema, and Lincoln Street. These a
 re the biggest and baddest shops/baristas in Boston and I'm wrangling 
 them into my shop for free food, free beer, yeah, FREE BEER (special t
 hanks to BARISMO for co-sponsoring the event by providing us all with 
 a keg, finger foods, and some other fun giveaways!!!), free coffee, li
 ve music, and, of course, a LATTE ART CONTEST! Cash and other prizes w
 ill be awarded to the winner, along with insane bragging rights within
  the local coffee community. Also, we are getting together some other 
 cool prizes like tampers and shirts and other cool swag for the less s
 erious contest that will take place... the LATTE CHUG CONTEST! May the
  fastest drinker win! This event is open to the public.\n\nAgain, than
 k you BARISMO for your generous contributions to make this event a sma
 shing success!! You guys are the greatest.\n\nMy hope is to unite the 
 local coffee community because after all don't we all want the same th
 ing, a perfect cup? I know Jaime and Barnett hear me on this one. Bari
 stas mark your calendars because this is a night you won't want to mis
 s out on!\n\nFor more information visit https://www.baristaexchange.co
 m/events/barista-jamtaste-coffee-house
DTSTART;TZID=America/Los_Angeles:20090403T170000
DTEND;TZID=America/Los_Angeles:20090403T200000
CATEGORIES:barista, jam
LOCATION:Taste Coffee House
WEBSITE:http://www.tastecoffeehouse.com/
URL:http://www.tastecoffeehouse.com/
CONTACT:
ORGANIZER:Taste
ATTACH;FMTTYPE="image/jpeg":http://storage.ning.com/topology/rest/1.0/
 file/get/91906295?profile=original
ATTENDEE;ROLE=REQ-PARTICIPANT;PARTSTAT=ACCEPTED;RSVP=TRUE;CN="Jake Rob
 inson":https://www.baristaexchange.com/profile/JakeRobinson
ATTENDEE;ROLE=REQ-PARTICIPANT;PARTSTAT=ACCEPTED;RSVP=TRUE;CN="Ben Sali
 nas":https://www.baristaexchange.com/profile/BenSalinas
END:VEVENT
END:VCALENDAR
