BEGIN:VCALENDAR
PRODID:NingEventWidget-v1
VERSION:2.0
METHOD:PUBLISH
BEGIN:VTIMEZONE
TZID:America/Los_Angeles
X-LIC-LOCATION:America/Los_Angeles
BEGIN:DAYLIGHT
TZOFFSETFROM:-0800
TZOFFSETTO:-0700
TZNAME:PDT
DTSTART:19700308T020000
RRULE:FREQ=YEARLY;BYMONTH=3;BYDAY=2SU
END:DAYLIGHT
BEGIN:STANDARD
TZOFFSETFROM:-0700
TZOFFSETTO:-0800
TZNAME:PST
DTSTART:19701101T020000
RRULE:FREQ=YEARLY;BYMONTH=11;BYDAY=1SU
END:STANDARD
END:VTIMEZONE
BEGIN:VEVENT
UID:1688216:Event:598532
DTSTAMP:20260422T230821Z
SUMMARY:Barista Jam
DESCRIPTION:The Coffee Enhancement Lounge @ Visions Espresso Hosts it'
 s first Barista Jam!\n\nCoffee Geek Workshops\n\nAn all day event with
  classes that will cover Sample Roasting, Production Roasting, Single 
 Origin Espresso, PID Course, & Equipment Course.\n\n$35 includes all 4
  classes and lunch!\n\nJoin us and our guests hosts after the workshop
 s at the Victrola Roastery and Cafe on Pike for the Latte Art Smackdow
 n!\n\nFor more information visit https://www.baristaexchange.com/event
 s/barista-jam
DTSTART;TZID=America/Los_Angeles:20090829T000000
DTEND;TZID=America/Los_Angeles:20090829T235900
CATEGORIES:coffee, geek, workshops
LOCATION:The Coffee Enhancement Lounge @ Visions
WEBSITE:http://maps.google.com/maps?f=q&source=s_q&hl=en&geocode=&q=27
 37+1st+Ave+S+Seattle,+wa+98134&sll=37.0625,-95.677068&sspn=47.483365,9
 3.076172&ie=UTF8&ll=47.579479,-122.334266&spn=0.009944,0.022724&z=16&i
 wloc=r0
URL:http://maps.google.com/maps?f=q&source=s_q&hl=en&geocode=&q=2737+1
 st+Ave+S+Seattle,+wa+98134&sll=37.0625,-95.677068&sspn=47.483365,93.07
 6172&ie=UTF8&ll=47.579479,-122.334266&spn=0.009944,0.022724&z=16&iwloc
 =r0
CONTACT:800 277 7277
ORGANIZER:Sarah Dooley
ATTACH;FMTTYPE="image/jpeg":http://storage.ning.com/topology/rest/1.0/
 file/get/91909867?profile=original
ATTENDEE;ROLE=REQ-PARTICIPANT;PARTSTAT=ACCEPTED;RSVP=TRUE;CN="Mark Pfa
 ff":https://www.baristaexchange.com/profile/MarkPfaff
ATTENDEE;ROLE=REQ-PARTICIPANT;PARTSTAT=ACCEPTED;RSVP=TRUE;CN=Klif:http
 s://www.baristaexchange.com/profile/Klif
ATTENDEE;ROLE=REQ-PARTICIPANT;PARTSTAT=ACCEPTED;RSVP=TRUE;CN="Natasha 
 Weiss":https://www.baristaexchange.com/profile/NatashaWeiss
END:VEVENT
END:VCALENDAR
